BEGIN:VCALENDAR
PRODID:NingEventWidget-v1
VERSION:2.0
METHOD:PUBLISH
BEGIN:VEVENT
UID:3186561:Event:5746
DTSTAMP:20260422T002953Z
SUMMARY:Panel Discussion of Amendments 60 & 61 and Proposition 101
DESCRIPTION:READY FOR NOVEMBER 2nd?\n\nIf so, then you have researched
  the issues as well as the Candidates. If you believe in limited gover
 nment and lower taxes (you would not be getting this newsletter if you
  did not!), consider attending one of two panel discussions on Amendme
 nts 60 & 61 and Proposition 101. The League of Women Voters is hosting
  two panel discussions as follows:\n\n- Mon. Sept. 27th, Koelbel Libra
 ry at 5955 S. Holly St. (at Orchard Road) in Centennial.\n\n- Wed. Oct
 . 6th, Smoky Hill Library, at 5430 S. Biscay Circle in Centennial.\n\n
 Each program begins at 7pm, the public is invited invited to come as e
 arly as 6:30 p.m. to browse their information tables and mingle.\n\nGr
 egory Golyanski, Vice Chairman of the Colorado Union of Taxpayers and 
 CCD 9-12 subscriber will present in support of the measures, and he is
  both incredibly knowledgeable (dating all the way back to his work to
  help pass TABOR), and very passionate. Henry Sobanet from Coloradans 
 for Responsible Reform will present his concerns about the measures. T
 hey will also have a Q&A period at the end. If you make it to one of t
 hese programs, you will absolutely be ready on these critical taxpayer
  measures.\n**********************************************\n\nThe abov
 e note came from the Cherry Creek 9-12 leader, Linda Hoover. The Cherr
 y Creek web site can be found at: http://www.ccd912.blogspot.com/\n\nF
 or more information visit https://arapahoeteaparty.ning.com/events/pan
 el-discussion-of-amendments
DTSTART:20100928T010000Z
DTEND:20100928T024500Z
CATEGORIES:"panel discussion"
LOCATION:Koelbel Library
WEBSITE:
URL:
CONTACT:
ORGANIZER:League of Women Voters and others [posted by Wilma Branstett
 er]
ATTACH;FMTTYPE="image/jpeg":
ATTENDEE;ROLE=REQ-PARTICIPANT;PARTSTAT=ACCEPTED;RSVP=TRUE;CN="W. Brans
 tetter":https://arapahoeteaparty.ning.com/profile/WBranstetter
END:VEVENT
END:VCALENDAR
