BEGIN:VCALENDAR
PRODID:NingEventWidget-v1
VERSION:2.0
METHOD:PUBLISH
BEGIN:VEVENT
UID:3186561:Event:69062
DTSTAMP:20210313T171110Z
SUMMARY:Arapahoe Tea Party (Meeting)--2020 Colorado legislature, etc.
DESCRIPTION:TONIGHT!\r\nPLEASE JOIN US TUESDAY NIGHT!  (Second Tuesda
 y each month.)  Topics include Rep. Kim Ransom about 2020 legislature
  and more topics.  Hope to see you there.\r\n \r\nListen to Randy Co
 rporon on Saturdays on 710 KNUS 6-9 a.m.  As with all of the meetings,
  come early for a good seat and get started. Our meetings attract a cr
 owd, so come early!     Tuesday, December 10, 2019 6:30-8:30 pm South 
 Metro Fire Rescue (SMFRA) 9195 E. Mineral Ave. Centennial, CO 80112  N
 OTE: Please do not call South Metro Fire Rescue's office for informati
 on, the board room is reserved for many groups' purposes without detai
 ls of the events.    Event announcement on Facebook:https://www.facebo
 ok.com/events/519938232067070/   If you are not connected via Facebook
 , please find the group \"Arapahoe Tea Party\" for news items and even
 ts:  https://www.facebook.com/groups/arapahoeteaparty\n\nFor more info
 rmation visit https://arapahoeteaparty.ning.com/events/arapahoe-tea-pa
 rty-meeting-2020-colorado-legislature-etc
DTSTART:20191211T013000Z
DTEND:20191211T033000Z
CATEGORIES:meeting
LOCATION:South Metro Fire Rescue (headquarters)
WEBSITE:
URL:
CONTACT:
ORGANIZER:posted by W. Branstetter
ATTACH;FMTTYPE="image/jpeg":
ATTENDEE;ROLE=REQ-PARTICIPANT;PARTSTAT=ACCEPTED;RSVP=TRUE;CN="Lorrie L
 unnon":https://arapahoeteaparty.ning.com/profile/LorrieLunnon
ATTENDEE;ROLE=REQ-PARTICIPANT;PARTSTAT=ACCEPTED;RSVP=TRUE;CN="W. Brans
 tetter":https://arapahoeteaparty.ning.com/profile/WBranstetter
END:VEVENT
END:VCALENDAR
