BEGIN:VCALENDAR
PRODID:NingEventWidget-v1
VERSION:2.0
METHOD:PUBLISH
BEGIN:VEVENT
UID:3186561:Event:49886
DTSTAMP:20210313T173231Z
SUMMARY:Young Conservatives Leadership Conference--A Week With Hugh He
 witt
DESCRIPTION:Colorado Christian University and the Centennial Institute
  offers this opportunity with the \"Young Conservatives Leadership Con
 ference--A Week With Hugh Hewitt\" July 13-20, 2014, for young people 
 aged 16-20 who are interested in leadership.  All of the details and 
 registration information is available at:\n\nhttp://www.ccu.edu/centen
 nial/westernconservativesummit/youngconservativesleadershipconference/
 \n\nIt appears that this conference is associated with the fifth Weste
 rn Conservative Summit.\n\nCost is $250.00 for the week and includes l
 odging, meals, transportation, etc.  It is a good deal for the 16-20 
 year olds.\n\n\n\nFor more information visit http://arapahoeteaparty.n
 ing.com/events/young-conservatives-leadership-conference-a-week-with-h
 ugh-hewitt
DTSTART:20140713T060000Z
DTEND:20140721T055900Z
CATEGORIES:conference
LOCATION:Colorado Christian University in Lakewood, Colorado
WEBSITE:http://www.ccu.edu/centennial/westernconservativesummit/youngc
 onservativesleadershipconference/
URL:http://www.ccu.edu/centennial/westernconservativesummit/youngconse
 rvativesleadershipconference/
CONTACT:
ORGANIZER:[posted by W. Branstetter]
ATTACH;FMTTYPE="image/jpeg":
END:VEVENT
END:VCALENDAR
