BEGIN:VCALENDAR
PRODID:NingEventWidget-v1
VERSION:2.0
METHOD:PUBLISH
BEGIN:VEVENT
UID:3186561:Event:38739
DTSTAMP:20210313T174005Z
SUMMARY:Western Arapahoe Republican Forum
DESCRIPTION:\nWestern Arapahoe Republican Forum\nWhat it will take to 
 bring home Arapahoe County?\n\nPlease join your friends and neighbors 
 to meet CO State Party Chair, Ryan Call  as he addresses what you can
  do to help and what it will mean for our future.\n\nSaturday, Septemb
 er 15, 2012, 9:15 a.m.\nLittleton City Council Chambers\n2255 W Berry 
 Avenue\nLittleton, CO 80120\n \nPLEASE NOTE:  If you would like to a
 ttend both WARF and the American Majority training on the 15th, you ca
 n arrive late to the training. Just let us know in advance!\n \nhttp:
 //americanmajority.org/events/denver-co-activist-training/\n \n******
 *********************\n \nNote that there was no time given for this 
 meeting to close so the time to end is only an estimate here.\n \n\nF
 or more information visit http://arapahoeteaparty.ning.com/events/west
 ern-arapahoe-republican-forum
DTSTART:20120915T151500Z
DTEND:20120915T170000Z
CATEGORIES:meeting
LOCATION:Littleton City Council Chambers
WEBSITE:
URL:
CONTACT:
ORGANIZER:WARF [posted by W. Branstetter]
ATTACH;FMTTYPE="image/jpeg":
ATTENDEE;ROLE=REQ-PARTICIPANT;PARTSTAT=ACCEPTED;RSVP=TRUE;CN="nicolas 
 newey":http://arapahoeteaparty.ning.com/profile/nicolasnewey
END:VEVENT
END:VCALENDAR
