BEGIN:VCALENDAR
PRODID:NingEventWidget-v1
VERSION:2.0
METHOD:PUBLISH
BEGIN:VEVENT
UID:3186561:Event:5638
DTSTAMP:20210313T172100Z
SUMMARY:We ARE the People Rally
DESCRIPTION:Rally for our Liberty, our Republic and our Constitution\n
 \nWest steps of the Colorado State Capitol with Special Guests Janine 
 Turner & S.E. Cupp plus other grassroots speakers.\n\nFor more informa
 tion visit http://arapahoeteaparty.ning.com/events/we-are-the-people-r
 ally-1
DTSTART:20100913T170000Z
DTEND:20100913T190000Z
CATEGORIES:rally
LOCATION:West Steps of the Capital
WEBSITE:
URL:
CONTACT:
ORGANIZER:Broomfield 9.12 & others
ATTACH;FMTTYPE="image/jpeg":
ATTENDEE;ROLE=REQ-PARTICIPANT;PARTSTAT=ACCEPTED;RSVP=TRUE;CN="Chairman
 's Committee":http://arapahoeteaparty.ning.com/profile/chairmanscommit
 tee
ATTENDEE;ROLE=REQ-PARTICIPANT;PARTSTAT=TENTATIVE;RSVP=TRUE;CN="Bill Ho
 uston":http://arapahoeteaparty.ning.com/profile/BillHouston
END:VEVENT
END:VCALENDAR
