BEGIN:VCALENDAR
PRODID:NingEventWidget-v1
VERSION:2.0
METHOD:PUBLISH
BEGIN:VEVENT
UID:3186561:Event:5925
DTSTAMP:20210313T172642Z
SUMMARY:US Senate Debate--9News/Denver Post Debate
DESCRIPTION:Show support of Ken Buck for US Senate as he debates Micha
 el Bennet in the 9News/Denver Post Debate!\n\nMonday, October 11, 2010
 , 6pm-9pm\nKing Center UCD/Auraria Campus\n855 Lawrence Way\nDenver, C
 olorado 80204\n\n**************************\n\nNote: this item is from
  events on schedule available from \"R Block Party\". If someone finds
  additional information such as tickets or other requirements please p
 ost.\n\nFor more information visit http://arapahoeteaparty.ning.com/ev
 ents/us-senate-debate9newsdenver
DTSTART:20101012T000000Z
DTEND:20101012T030000Z
CATEGORIES:debate
LOCATION:King Center UCD/Auraria Campus
WEBSITE:
URL:
CONTACT:
ORGANIZER:[posted by W. Branstetter]
ATTACH;FMTTYPE="image/jpeg":
ATTENDEE;ROLE=REQ-PARTICIPANT;PARTSTAT=ACCEPTED;RSVP=TRUE;CN="W. Brans
 tetter":http://arapahoeteaparty.ning.com/profile/WBranstetter
END:VEVENT
END:VCALENDAR
