BEGIN:VCALENDAR
PRODID:NingEventWidget-v1
VERSION:2.0
METHOD:PUBLISH
BEGIN:VEVENT
UID:3186561:Event:46432
DTSTAMP:20210313T181613Z
SUMMARY:UPDATED-July Meeting for Arapahoe Tea Party THIS TUESDAY!
DESCRIPTION:UPDATE: Join the Arapahoe Tea Party and the Colorado Tea P
 arty Patriots for our July meeting this TUESDAY NIGHT!\nGet updates on
  the Morse and Giron recall efforts.  These could be big for our move
 ment and help is needed!\nUpdate: Learn about the Citizen Armory, the 
 first company of its kind on Colorado to assist those charged with cer
 tain crimes to relinquish and store their weapons during their cases, 
 legally, quickly, safely and inexpensively. FFL compliant, on-site bac
 kground checks, courier service and more.\nUpdate: State House Distric
 t 37 Candidate Michael Fields will be dropping by with an update on hi
 s quest to replace term-limited Spencer Swalm.\nFeatured speakers:\nFo
 rmer Colorado State Senator Bruce Cairns on: Why the GOP continues to 
 lose!\nPauline Olvera - Vice-Chairman: Colorado Hispanic Republicans V
 ice-Chairman: Denver Republican Party Crafting a compelling message. W
 e can't connect if we don't communicate. We can't persuade if we don't
  connect. And we can't win elections if we don't persuade.\nDerrick Wi
 lburn - American Conservatives of Color, dynamic speaker and founder o
 f the Rocky Mountain Black Tea Party with tough medicine for the Repub
 lican Party: Truth Transcends Color-what does the GOP have to do to we
 lcome ethnic minority voters?\nBring your questions, your perspective 
 and your comments. Our meetings have been standing room only, so come 
 early!\nTuesday, July 9 6:30-8:30 pm South Metro Fire Rescue 9195 E. M
 ineral Ave. Centennial, CO 80112\nIf you would be interested in helpin
 g with a committee or two that might help make meetings and events run
  smoother, would you please post a brief comment with this announcemen
 t.\nIf you are not connected via Facebook, please find the group \"Ara
 pahoe Tea Party\" \nhttps://www.facebook.com/groups/arapahoeteaparty\
 nFacebook events page is at:  https://www.facebook.com/events/5494944
 41759227/\n\nFor more information visit http://arapahoeteaparty.ning.c
 om/events/updated-july-meeting-for-arapahoe-tea-party-this-tuesday
DTSTART:20130710T003000Z
DTEND:20130710T023000Z
CATEGORIES:"monthly meeting"
LOCATION:South Metro Fire Rescue Authority; Mineral Headquarters, Boar
 d Room
WEBSITE:https://maps.google.com/maps?oe=utf-8&client=firefox-a&ie=UTF-
 8&q=south+metro+fire+rescue+authority+mineral+headquarters&fb=1&gl=us&
 hq=south+metro+fire+rescue+authority+mineral+headquarters&cid=0,0,9189
 900575761474566&ei=wsvZUfvrHoWQyQHR5oGQCg&ved=0CIcBEPwSMAA
URL:https://maps.google.com/maps?oe=utf-8&client=firefox-a&ie=UTF-8&q=
 south+metro+fire+rescue+authority+mineral+headquarters&fb=1&gl=us&hq=s
 outh+metro+fire+rescue+authority+mineral+headquarters&cid=0,0,91899005
 75761474566&ei=wsvZUfvrHoWQyQHR5oGQCg&ved=0CIcBEPwSMAA
CONTACT:303-885-2550
ORGANIZER:Randy Corporon
ATTACH;FMTTYPE="image/jpeg":
ATTENDEE;ROLE=REQ-PARTICIPANT;PARTSTAT=ACCEPTED;RSVP=TRUE;CN="Randy B 
 Corporon":http://arapahoeteaparty.ning.com/profile/RandyBCorporon
ATTENDEE;ROLE=REQ-PARTICIPANT;PARTSTAT=TENTATIVE;RSVP=TRUE;CN="Johnny 
 Burns":http://arapahoeteaparty.ning.com/profile/JohnnyBurns
END:VEVENT
END:VCALENDAR
