BEGIN:VCALENDAR
PRODID:NingEventWidget-v1
VERSION:2.0
METHOD:PUBLISH
BEGIN:VEVENT
UID:3186561:Event:37825
DTSTAMP:20210313T171244Z
SUMMARY:UPDATED INVITE-ARAPAHOE TEA PARTY MONTHLY MTG., JULY 3, 2012
DESCRIPTION:Join the Arapahoe Tea Party as we celebrate the founding o
 f our great country!!  Tuesday, July 3, 2012 NOTE SPECIAL TIMES!!!!!!!
 !!!!!!  KLZ AM 560 The Source and Grassroots Radio ( https://www.face
 book.com/grassrootsradio.colorado.5) ( http://www.560thesource.com/) 
 will be broadcasting live from 5 pm - 7 pm.   We will read the Decla
 ration of Independence ON THE AIR and hear from some great Patriots, h
 opefully YOU! Come early, join us for the broadcast and tell our radio
  audience what the 4th of July means to you.  Then, at 7 PM, The Incon
 venient Sunny Roseman (https://www.facebook.com/robert.roseman) (http:
 //www.sunnyroseman.com/) will have us laughing and thinking followed b
 y Air Force Colonel (Retired) Jimmy Butler (https://www.facebook.com/j
 immie.butler.180) (anamericanpatriot.net), who will teach us and answe
 r questions about Saul Alinski's tactics, how they are affecting our c
 ulture and how we can DEFEAT them this year and beyond.  Crista Huff (
 https://www.facebook.com/crista.huff) (americanflagproject@gmail.com) 
 will tell us the story behind the American Flag Project and how you ca
 n participate.  American's For Prosperity ( http://americansforprospe
 rity.org/) and Compass Colorado (http://compasscolorado.org/) will tel
 l us about volunteer opportunities with some easy and effective ways t
 o be advocates for free markets and limited government during this ele
 ction and beyond.   The ObamaCare ruling is sure to be a hot topic al
 so!  Come early to hear the guys on Grassroots Radio and help us celeb
 rate The Unites States of America!  Smoky Hill Library 5430 S Biscay C
 ircle Centennial, CO 80015 (http://arapahoelibraries.org/ald/location-
 details?location=sm)\n\nFor more information visit http://arapahoeteap
 arty.ning.com/events/updated-invite-arapahoe-tea-party-monthly-mtg-jul
 y-3-2012
DTSTART:20120703T230000Z
DTEND:20120704T030000Z
CATEGORIES:monthly, meeting
LOCATION:Smoky Hill Library
WEBSITE:http://arapahoelibraries.org/ald/location-details?location=sm
URL:http://arapahoelibraries.org/ald/location-details?location=sm
CONTACT:303-885-2550
ORGANIZER;CN="Randy B Corporon":http://arapahoeteaparty.ning.com/profi
 le/RandyBCorporon
ATTACH;FMTTYPE="image/jpeg":
ATTENDEE;ROLE=REQ-PARTICIPANT;PARTSTAT=ACCEPTED;RSVP=TRUE;CN="Joseph W
 illiam Gabriele":http://arapahoeteaparty.ning.com/profile/JosephWillia
 mGabriele
ATTENDEE;ROLE=REQ-PARTICIPANT;PARTSTAT=ACCEPTED;RSVP=TRUE;CN="karen hu
 rst":http://arapahoeteaparty.ning.com/profile/karenhurst
ATTENDEE;ROLE=REQ-PARTICIPANT;PARTSTAT=ACCEPTED;RSVP=TRUE;CN="W. Brans
 tetter":http://arapahoeteaparty.ning.com/profile/WBranstetter
ATTENDEE;ROLE=REQ-PARTICIPANT;PARTSTAT=ACCEPTED;RSVP=TRUE;CN="Randy B 
 Corporon":http://arapahoeteaparty.ning.com/profile/RandyBCorporon
ATTENDEE;ROLE=REQ-PARTICIPANT;PARTSTAT=TENTATIVE;RSVP=TRUE;CN="John J.
  Waters":http://arapahoeteaparty.ning.com/profile/JohnJWaters
ATTENDEE;ROLE=REQ-PARTICIPANT;PARTSTAT=TENTATIVE;RSVP=TRUE;CN="M Lucy 
 Schell":http://arapahoeteaparty.ning.com/profile/MLucySchell
END:VEVENT
END:VCALENDAR
