BEGIN:VCALENDAR
PRODID:NingEventWidget-v1
VERSION:2.0
METHOD:PUBLISH
BEGIN:VEVENT
UID:3186561:Event:35737
DTSTAMP:20210313T171236Z
SUMMARY:UPDATE: MAY 1, 2012 ARAPAHOE TEA PARTY MEETING
DESCRIPTION:NOTE THE UNUSUAL TIMES. COME WHEN YOU CAN!   Grassroots R
 adio Colorado will broadcast live 5-7 PM. The Heritage Foundation Valu
 es Bus will be on site with information and free materials starting at
  4:30 PM. Their presentation will begin around 7. The Inconvenient Sun
 ny Roseman will loosen us up with his acerbic wit and commentary!  We
  will hear from Leslie D. White of Americans for Prosperity, candidate
 s and more. Please come, and bring your family and friends! Only 6 mon
 ths to Election Day!\n\nFor more information visit http://arapahoeteap
 arty.ning.com/events/update-may-1-2012-arapahoe-tea-party-meeting
DTSTART:20120501T223000Z
DTEND:20120502T030000Z
CATEGORIES:monthly, tea, party, meeting
LOCATION:Smoky Hill Library
WEBSITE:http://lhttp://arapahoelibraries.org/ald/location-details?loca
 tion=sm
URL:http://lhttp://arapahoelibraries.org/ald/location-details?location
 =sm
CONTACT:303-885-2550
ORGANIZER;CN="Randy B Corporon":http://arapahoeteaparty.ning.com/profi
 le/RandyBCorporon
ATTACH;FMTTYPE="image/jpeg":
ATTENDEE;ROLE=REQ-PARTICIPANT;PARTSTAT=ACCEPTED;RSVP=TRUE;CN="Fredrick
  Lindner":http://arapahoeteaparty.ning.com/profile/FredrickDLindner
ATTENDEE;ROLE=REQ-PARTICIPANT;PARTSTAT=ACCEPTED;RSVP=TRUE;CN="John Sam
 pson":http://arapahoeteaparty.ning.com/profile/JohnSampson
ATTENDEE;ROLE=REQ-PARTICIPANT;PARTSTAT=ACCEPTED;RSVP=TRUE;CN="dara roc
 kett benoit":http://arapahoeteaparty.ning.com/profile/dararockettbenoi
 t
ATTENDEE;ROLE=REQ-PARTICIPANT;PARTSTAT=ACCEPTED;RSVP=TRUE;CN="W. Brans
 tetter":http://arapahoeteaparty.ning.com/profile/WBranstetter
ATTENDEE;ROLE=REQ-PARTICIPANT;PARTSTAT=ACCEPTED;RSVP=TRUE;CN="Randy B 
 Corporon":http://arapahoeteaparty.ning.com/profile/RandyBCorporon
ATTENDEE;ROLE=REQ-PARTICIPANT;PARTSTAT=TENTATIVE;RSVP=TRUE;CN="Cathy M
 itchell":http://arapahoeteaparty.ning.com/profile/CathyMitchell
END:VEVENT
END:VCALENDAR
