BEGIN:VCALENDAR
PRODID:NingEventWidget-v1
VERSION:2.0
METHOD:PUBLISH
BEGIN:VEVENT
UID:3186561:Event:44233
DTSTAMP:20210313T172606Z
SUMMARY:POSTPONED for Weather (UPDATE-April Arapahoe County Tea Party 
 Meeting)
DESCRIPTION:\n\n\nIt's that time again. Please join us for another gre
 at evening with your fellow uncompromising, country-loving, Constituti
 on-supporting, never-giving-up-the-fight patriots! Yes, that means YOU
 !  Our featured speaker is Idaho resident/author/researcher, Jeff L. W
 right, who has written a remarkable new book, “The Citizen's Last St
 and: Are YOU Ready?” The book thoroughly explores how events have tu
 rned-over the last century and what they portend during the 21st Centu
 ry for our beloved Republic.   It is a \"gloves off\" analysis of how
  we got here, the problems we face and what can be done over the next 
 decade. The book contains a developed and detailed action plan for ind
 ividual citizens, groups and state legislators to follow, to protect u
 s from the social, fiscal and financial catastrophe ahead. Really, the
  one we're already in!   The plan is based on more than 30 years of e
 xperience in the military (intelligence, defense), commercial and fina
 ncial realms, including 15 years on Wall Street and two decades of eff
 ective political activism in multiple western states.  We will hear fr
 om former Colorado State Senator Bruce Cairns, who will explain why De
 mocrats keep winning, and we'll all talk about how we can turn that ar
 ound.  We will watch the video from Hillsdale College regarding their 
 intitiative to bring the Constitution and our Founding Principles to 3
 0 MILLION Americans in the next 3 years, hosted by conservative icons 
 like College President Larry Arnn, Mark Levin, Michelle Malkin, Allen 
 West, Jim DeMint, and others.  If all that doesn't do it for you, noth
 ing will! Let's get together and remind ourselves why we do what we do
 , and that we're in darn good company doing it.  See you there! Randy 
 Corporon, Chairman\n\n\n\n\n\nFor more information visit http://arapah
 oeteaparty.ning.com/events/update-april-arapahoe-county-tea-party-meet
 ing
DTSTART:20130410T003000Z
DTEND:20130410T023000Z
CATEGORIES:monthly, meeting
LOCATION:South Metro Fire Rescue Authority Board Room
WEBSITE:http://www.southmetro.org/
URL:http://www.southmetro.org/
CONTACT:303-885-2550
ORGANIZER;CN="Randy B Corporon":http://arapahoeteaparty.ning.com/profi
 le/RandyBCorporon
ATTACH;FMTTYPE="image/jpeg":
ATTENDEE;ROLE=REQ-PARTICIPANT;PARTSTAT=ACCEPTED;RSVP=TRUE;CN="Randy B 
 Corporon":http://arapahoeteaparty.ning.com/profile/RandyBCorporon
ATTENDEE;ROLE=REQ-PARTICIPANT;PARTSTAT=ACCEPTED;RSVP=TRUE;CN="W. Brans
 tetter":http://arapahoeteaparty.ning.com/profile/WBranstetter
ATTENDEE;ROLE=REQ-PARTICIPANT;PARTSTAT=ACCEPTED;RSVP=TRUE;CN="Denise D
 enny":http://arapahoeteaparty.ning.com/profile/DeniseDenny
ATTENDEE;ROLE=REQ-PARTICIPANT;PARTSTAT=ACCEPTED;RSVP=TRUE;CN="John J. 
 Waters":http://arapahoeteaparty.ning.com/profile/JohnJWaters
ATTENDEE;ROLE=REQ-PARTICIPANT;PARTSTAT=ACCEPTED;RSVP=TRUE;CN="Neal K P
 ashman":http://arapahoeteaparty.ning.com/profile/NealKPashman
ATTENDEE;ROLE=REQ-PARTICIPANT;PARTSTAT=TENTATIVE;RSVP=TRUE;CN="Larry S
 trohl":http://arapahoeteaparty.ning.com/profile/LarryStrohl
END:VEVENT
END:VCALENDAR
