BEGIN:VCALENDAR
PRODID:NingEventWidget-v1
VERSION:2.0
METHOD:PUBLISH
BEGIN:VEVENT
UID:3186561:Event:48733
DTSTAMP:20210313T173750Z
SUMMARY:U.S. Senate Candidates Forum sponsored by North Suburban Repub
 lican Forum
DESCRIPTION:U.S. Senate Candidates Forum will be sponsored by North Su
 burban Republican Forum:\n\nD.L. Parsons Theatre\n11801 Community Cent
 er Drive\nNorthglenn, Colorado\nSaturday, February 8, 2014 at 8:30 a.m
 . to 11:00 a.m.\nAdmission is free for everyone.\n\nMeet and greet you
 r Colorado Republican U.S. Senate candidates. It's not a debate but a 
 forum to have your question answered. If you're a delegate or alternat
 e to the state GOP assembly, you need to attend so you can decide on a
  candidate to support to beat Mark Udall. \n\nCo-sponsored by The Re
 agan Club of Colorado, Adams County Republicans,Broomfield County Rep
 ublicans, and Colorado Republican Business Coalition\nThe moderator w
 ill be Donald Beezley (former Colorado HD-33 Representative) and our
  three panelists are: Adams County Commissioner Erik Hansen, Represe
 ntative Lori Saine, Colorado House District 63, and Kelly Maher (Com
 pass Colorado Executive Director).\n\n\nFacebook event announcement at
 :\n\n\nhttps://www.facebook.com/events/463598123745987/?ref_newsfeed_s
 tory_type=regular&source=1\n\nMore information about North Suburban Re
 publican Forum at:\n\nhttp://www.northsuburbanrepublicanforum.org/\n\n
 ************************\n\nNote that NSRF meets the second Saturday e
 ach month.\nBring your  question(s), friends, checkbook, and a politi
 cal appetite.  The Reagan Club of Colorado will have refreshments (co
 ffee, bottled water, donuts, fruit, and pastries) for sale.  Remember
  to pay your $20 2014 annual membership dues! \n\n\nFor more informat
 ion visit http://arapahoeteaparty.ning.com/events/u-s-senate-candidate
 s-forum-sponsored-by-north-suburban-republica
DTSTART:20140208T153000Z
DTEND:20140208T180000Z
CATEGORIES:"candidate forum"
LOCATION:Northglenn Recreation Center
WEBSITE:http://www.northsuburbanrepublicanforum.org/
URL:http://www.northsuburbanrepublicanforum.org/
CONTACT:
ORGANIZER:posted by W. Branstetter
ATTACH;FMTTYPE="image/jpeg":
ATTENDEE;ROLE=REQ-PARTICIPANT;PARTSTAT=ACCEPTED;RSVP=TRUE;CN="John Don
 ovan":http://arapahoeteaparty.ning.com/profile/JohnDonovan
ATTENDEE;ROLE=REQ-PARTICIPANT;PARTSTAT=TENTATIVE;RSVP=TRUE;CN="W. Bran
 stetter":http://arapahoeteaparty.ning.com/profile/WBranstetter
END:VEVENT
END:VCALENDAR
