BEGIN:VCALENDAR
PRODID:NingEventWidget-v1
VERSION:2.0
METHOD:PUBLISH
BEGIN:VEVENT
UID:3186561:Event:47369
DTSTAMP:20210313T172720Z
SUMMARY:Trevor Loudon on Peter Boyles' radio show
DESCRIPTION:Trevor Loudon will be on the Peter Boyles' radio show at 8
 :00 a.m.  The Peter Boyles program airs from 6:00 a.m. to 9:00 a.m. a
 nd podcasts are also available.  The program airs on 710 KNUS AM\n \
 nTrevor Loudon is in Colorado for the week and has written a new book:
   The Enemies Within:  Communists, Socialists, and Progressives in t
 he U.S. Congress.  Trevor gave an amazing presentation for the people
  who attended the August 13 meeting of the Arapahoe County Tea Party.\
 n \nFor more information about the book and the extensive work please
  visit his web site.  There is also a link there to the Key-wiki web 
 site where there are thousands of names and their links to the left.\n
  \nhttp://www.trevorloudon.com/\n \nhttp://www.710knus.com/\n \nTre
 vor Loudon Colorado tour information is available at:\n\nhttp://www.tr
 evorloudon.com/2013/08/loudon-us-tour-update-colorado-events/\n\n \n*
 **********************\n \nAlso noted at the Tuesday meeting, radio h
 ost Michael Brown--I believe he may be on 630 KHOW--will be recording 
 and interview with Trevor to air at an unknown time.  That also would
  be a good opportunity to learn more.\n \n\n\nFor more information vi
 sit http://arapahoeteaparty.ning.com/events/trevor-loudon-on-peter-boy
 les-radio-show
DTSTART:20130815T140000Z
DTEND:20130815T150000Z
CATEGORIES:"radio show"
LOCATION:\"Radio  AM 710 KNUS\"
WEBSITE:http://www.710knus.com/
URL:http://www.710knus.com/
CONTACT:
ORGANIZER:[posted by W. Branstetter]
ATTACH;FMTTYPE="image/jpeg":
ATTENDEE;ROLE=REQ-PARTICIPANT;PARTSTAT=ACCEPTED;RSVP=TRUE;CN="REGINA T
 HOMSON":http://arapahoeteaparty.ning.com/profile/REGINATHOMSON
ATTENDEE;ROLE=REQ-PARTICIPANT;PARTSTAT=TENTATIVE;RSVP=TRUE;CN="W. Bran
 stetter":http://arapahoeteaparty.ning.com/profile/WBranstetter
END:VEVENT
END:VCALENDAR
