BEGIN:VCALENDAR
PRODID:NingEventWidget-v1
VERSION:2.0
METHOD:PUBLISH
BEGIN:VEVENT
UID:3186561:Event:40231
DTSTAMP:20210313T173109Z
SUMMARY:Townhall with State Rep. Spencer Swalm
DESCRIPTION:Townhall\nState Representative Spencer Swalm\nÂ \nSaturday
 , October 13,\n9:30 am to 11:30 am\nSmoky Hill Library, Room A\n5430 S
 outh Biscay Circle,\nCentennial, Colorado\n\nTOPIC:Â  Walt Klein will 
 reveal his insights about the upcoming election.Â \n\nAs always, your 
 thoughts and questions on any topic are welcome.\n\nNote:Â  The Colora
 do Consumer Coalition named Representative Swalm among their 2012 \"Fr
 iends of Colorado Consumers\" for his dedication to fiscal responsibil
 ity.\n\n Disclaimer: \"Granting of permission by the Arapahoe Library 
 District to use library facilities does not constitute endorsement by 
 the Library District Staff or Board of Trustees. \" Only signs that ar
 e 8 Â½ x 11 are allowed to be posted & only by the meeting room(s).\nÂ
  \nÂ \nÂ Â Â \nÂ \n\nFor more information visit http://arapahoeteapart
 y.ning.com/events/townhall-with-state-rep-spencer-swalm
DTSTART:20121013T150000Z
DTEND:20121013T180000Z
CATEGORIES:townhall
LOCATION:Smoky Hill Library; Room A
WEBSITE:
URL:
CONTACT:
ORGANIZER:posted by W. Branstetter
ATTACH;FMTTYPE="image/jpeg":
ATTENDEE;ROLE=REQ-PARTICIPANT;PARTSTAT=TENTATIVE;RSVP=TRUE;CN="W. Bran
 stetter":http://arapahoeteaparty.ning.com/profile/WBranstetter
END:VEVENT
END:VCALENDAR
