BEGIN:VCALENDAR
PRODID:NingEventWidget-v1
VERSION:2.0
METHOD:PUBLISH
BEGIN:VEVENT
UID:3186561:Event:48386
DTSTAMP:20210313T181847Z
SUMMARY:Townhall with Senator Nancy Todd
DESCRIPTION:In an e-mail Senator Nancy Todd (D, SD-28) lists the follo
 wing coming townhalls.  Some of these events she does with others fro
 m the Colorado legislature.\n \nUpcoming Town Halls  November 20th 6:
 30-8:00 PM at Heather Gardens (2888 S. Heather Gardens Way, Aurora, CO
  80014)\n December 6th 7:00-8:00 AM at Panera Bread (12293 East Iliff 
 Avenue Aurora, CO 80014)\n December 7th 11:00 AM-12:00 PM at Smoky Hil
 l Library (5430 Biscay Circle Aurora, CO 80015)\n \nNote that Senator
  Todd's web site is:\n \nhttp://www.nancytoddforsenate.org/\n \nIt i
 s my observation, that if you want information for townhalls or other 
 topics it is necessary to be on her e-mail list since the web site is 
 not always updated.  Even the e-mails seem sporadic.\n \nIt is highl
 y recommended that if you are in Aurora and Senator Todd's district th
 at you attend one or more of these events over the next months.  She 
 is supposed to be representing everyone and certainly attempting to ad
 dress citizen concerns.  Take a friend or your neighbor and learn wha
 t the legislators have in mind for the 2014 Colorado legislature.\n \
 n \n\nFor more information visit http://arapahoeteaparty.ning.com/eve
 nts/townhall-with-senator-nancy-todd
DTSTART:20131121T013000Z
DTEND:20131121T030000Z
CATEGORIES:townhall
LOCATION:Heather Gardens
WEBSITE:http://www.nancytoddforsenate.org/
URL:http://www.nancytoddforsenate.org/
CONTACT:
ORGANIZER:[posted by W. Branstetter]
ATTACH;FMTTYPE="image/jpeg":
END:VEVENT
END:VCALENDAR
