BEGIN:VCALENDAR
PRODID:NingEventWidget-v1
VERSION:2.0
METHOD:PUBLISH
BEGIN:VEVENT
UID:3186561:Event:44838
DTSTAMP:20210313T172308Z
SUMMARY:Townhall with Sen. Todd and Newell and Rep. Melton
DESCRIPTION:Senator Nancy Todd sponsored a robo-call announcing an ope
 n-forum meeting Wednesday, April 17, at 6:30 p.m.  Senator Nancy Todd
 , Senator Newell, and Representative Melton will be available for thi
 s meeting. \n \nThe location is:  Heather Gardens Club House 2888 So
 uth Heather Gardens Way Aurora, Colorado 80014 6:30 p.m.  Wednesday, 
 April 17, 2013\n  Senator Nancy Todd, Senator Newell, Rep. Melton\n 
 \nThe only reference I could find on a web site was in the calendar at
 : http://coloradosenate.org/home/calendar/\n\nThis may only be for an 
 hour or so since they do not like to stay in one place for long.\n\nSe
 nator Nancy Todd (SD-28):\nhttp://www.nancytoddforsenate.org/\nhttp://
 coloradosenate.org/home/directory/senator-nancy-todd\n\nSenator Linda 
 Newell (SD-26):\nhttp://www.senlindanewell.com/\n\nRep. Jovan Melton (
 HD-41):\nhttp://jovanmelton.com/\n\n***********************\nNOTE:  C
 heck the senate schedule on this date since it is possible they will b
 e meeting in full session starting at 4:00 or 5:00 p.m.\n\nFor more in
 formation visit http://arapahoeteaparty.ning.com/events/townhall-with-
 sen-todd-and-newell-and-rep-melton
DTSTART:20130418T003000Z
DTEND:20130418T020000Z
CATEGORIES:townhall
LOCATION:Heather Gardens Club House
WEBSITE:
URL:
CONTACT:
ORGANIZER:posted by W. Branstetter
ATTACH;FMTTYPE="image/jpeg":
ATTENDEE;ROLE=REQ-PARTICIPANT;PARTSTAT=TENTATIVE;RSVP=TRUE;CN="W. Bran
 stetter":http://arapahoeteaparty.ning.com/profile/WBranstetter
END:VEVENT
END:VCALENDAR
