BEGIN:VCALENDAR
PRODID:NingEventWidget-v1
VERSION:2.0
METHOD:PUBLISH
BEGIN:VEVENT
UID:3186561:Event:38409
DTSTAMP:20210313T173057Z
SUMMARY:Townhall with Rep. Spencer Swalm
DESCRIPTION:Representative Spencer Swalm has been representing House D
 istrict 37.  The boundaries for most of the districts in Colorado wer
 e changed with redistricting and reapportionment.  Spencer Swalm has
  scheduled this townhall to meet with constituents and would like to a
 ddress concerns with healthcare.  Please come out to meet with him an
 d watch for other events.\n \nTOPIC:  Health-care legislation pros a
 nd cons\n\n1:30 to 3:00 – Town Hall at Smoky Hill Library\n\nSaturda
 y, August 4, 2012 \n1:30 pm to 3:00 pm\nSmoky Hill Library, Room B\n5
 430 S. Biscay Circle,\nCentennial, Colorado \n \nhttp://www.spencers
 walm.com/home.php\n\nLibrary is located on the northeast corner of the
  intersection of Smoky Hill Road and South Biscay Circle.\n\n\n\n\nFor
  more information visit http://arapahoeteaparty.ning.com/events/townha
 ll-with-rep-spencer-swalm
DTSTART:20120804T193000Z
DTEND:20120804T210000Z
CATEGORIES:townhall
LOCATION:Smoky Hill Library; Room B
WEBSITE:http://www.spencerswalm.com/home.php
URL:http://www.spencerswalm.com/home.php
CONTACT:
ORGANIZER:Rita Hyland [posted by W. Branstetter]
ATTACH;FMTTYPE="image/jpeg":
ATTENDEE;ROLE=REQ-PARTICIPANT;PARTSTAT=ACCEPTED;RSVP=TRUE;CN="W. Brans
 tetter":http://arapahoeteaparty.ning.com/profile/WBranstetter
END:VEVENT
END:VCALENDAR
