BEGIN:VCALENDAR
PRODID:NingEventWidget-v1
VERSION:2.0
METHOD:PUBLISH
BEGIN:VEVENT
UID:3186561:Event:47874
DTSTAMP:20210313T173817Z
SUMMARY:Townhall with Rep. Spencer Swalm (HD-37)
DESCRIPTION:State representative Spencer Swalm has scheduled a townhal
 l for Saturday, October 5 at 1:30 p.m.  The announcement has been mad
 e at a couple of events recently but the particulars for topic(s) esca
 pe my recollection.  If anyone knows the topics, please post a commen
 t.\n\nRepresentative Spencer Swalm (HD-37)\nLocation:  Koebel Library
 \n5955 S. Holly Street \nCentennial, CO 80121\nTime:  1:30 to 3:30 p
 .m.\n\nhttp://goo.gl/maps/C6vyM\n\nIf you are in or near Rep. Swalm's 
 district, check it out and contact him via:\nhttp://www.spencerswalm.c
 om/home.php\n\nFor more information visit http://arapahoeteaparty.ning
 .com/events/townhall-with-rep-spencer-swalm-hd-37
DTSTART:20131005T193000Z
DTEND:20131005T213000Z
CATEGORIES:townhall
LOCATION:Koebel Library
WEBSITE:
URL:
CONTACT:
ORGANIZER:Rep. Spencer Swalm [posted by W. Branstetter]
ATTACH;FMTTYPE="image/jpeg":
ATTENDEE;ROLE=REQ-PARTICIPANT;PARTSTAT=TENTATIVE;RSVP=TRUE;CN="W. Bran
 stetter":http://arapahoeteaparty.ning.com/profile/WBranstetter
END:VEVENT
END:VCALENDAR
