BEGIN:VCALENDAR
PRODID:NingEventWidget-v1
VERSION:2.0
METHOD:PUBLISH
BEGIN:VEVENT
UID:3186561:Event:44277
DTSTAMP:20210313T180224Z
SUMMARY:Townhall with Rep. Justin Everett (HD-22)
DESCRIPTION:Representative Justin Everett has scheduled a townhall mee
 ting.  House District 22 is on the west-southwest side of the metro a
 rea.  Townhalls are a great place to get information from legislator
 s and ask questions as well as an encouraging word.   \n\nhttp://ww
 w.everett4colorado.com/\nhttp://www.leg.state.co.us/clics/clics2013a/d
 irectory.nsf/MemberDetailPage?OpenForm&district=22&chamber=house\n \n
 Date:  Friday, April 12, 2013\nTime:  7:00-8:30 p.m.\nLocation:\nSou
 th Precinct Jefferson County Sheriff's Office11139 Bradford RoadLittl
 eton, CO 80127\n\nDirections from C-470:  \nExit Ken Caryl Avenue and
  head east.\nTurn south (right) at Chatfield Ave.\nTurn right onto Sha
 ffer PARKWAY, and then an immediate left onto Bradford Road.\nhttps://
 www.co.jefferson.co.us/sheriff/sheriff_T62_R31.htm\n\n\n[note from Deb
 bie Healy for this event]\n\nFor more information visit http://arapaho
 eteaparty.ning.com/events/townhall-with-rep-justin-everett-hd-22
DTSTART:20130413T010000Z
DTEND:20130413T023000Z
CATEGORIES:townhall
LOCATION:South Precinct Jefferson County Sheriff's Office
WEBSITE:http://www.everett4colorado.com/
URL:http://www.everett4colorado.com/
CONTACT:
ORGANIZER:posted by W. Branstetter
ATTACH;FMTTYPE="image/jpeg":
ATTENDEE;ROLE=REQ-PARTICIPANT;PARTSTAT=TENTATIVE;RSVP=TRUE;CN="W. Bran
 stetter":http://arapahoeteaparty.ning.com/profile/WBranstetter
END:VEVENT
END:VCALENDAR
