BEGIN:VCALENDAR
PRODID:NingEventWidget-v1
VERSION:2.0
METHOD:PUBLISH
BEGIN:VEVENT
UID:3186561:Event:40138
DTSTAMP:20210313T181924Z
SUMMARY:Townhall with Aurora Mayor and Ward VI Councilman Bob Broom
DESCRIPTION:This event comes with short notice.\nÂ \nIf you live in so
 utheast Aurora or might be interested, there is a townhall meeting wit
 h Aurora mayor Steve Hogan, Ward VI coucilman Bob Broom and some counc
 il at-large members at Heritage Eagle Bend Clubhouse tonight.\nÂ \nTim
 e:Â  7:00 p.m. to 8:30 p.m.\nMC:Â  Tom Coker, Heritage Eagle Bend resi
 dent\nMayor Steve Hogan\nWard VI Councilman Bob Broom\nCouncil-at-larg
 e members\nÂ \nTopic is upcoming city of Aurora ballot issues.\nÂ \nHe
 ritage Eagle Bend has a good map on their web page at:\nhttp://www.her
 itageeaglebend.com/sites/courses/layout9.asp?id=1073&page=64074\nÂ \nÂ
  \n\nFor more information visit http://arapahoeteaparty.ning.com/event
 s/townhall-with-aurora-mayor-and-ward-vi-councilman-bob-broom
DTSTART:20121009T010000Z
DTEND:20121009T023000Z
CATEGORIES:townhall
LOCATION:Heritage Eagle Bend Clubhouse
WEBSITE:http://www.heritageeaglebend.com/sites/courses/layout9.asp?id=
 1073&page=64074
URL:http://www.heritageeaglebend.com/sites/courses/layout9.asp?id=1073
 &page=64074
CONTACT:
ORGANIZER:Tom Coker [posted by W. Branstetter]
ATTACH;FMTTYPE="image/jpeg":
ATTENDEE;ROLE=REQ-PARTICIPANT;PARTSTAT=TENTATIVE;RSVP=TRUE;CN="W. Bran
 stetter":http://arapahoeteaparty.ning.com/profile/WBranstetter
END:VEVENT
END:VCALENDAR
