BEGIN:VCALENDAR
PRODID:NingEventWidget-v1
VERSION:2.0
METHOD:PUBLISH
BEGIN:VEVENT
UID:3186561:Event:36622
DTSTAMP:20210313T175040Z
SUMMARY:Townhall \"What Really Happened This Session\"--Rep. Cindy Acr
 ee
DESCRIPTION: \nRepresentative Cindy Acree (Colorado House District 40
 ) announced this townhall:  \"Town Hall Mon 5-21, Mission Viejo Elem 
 6:30 pm. What really happened this session.\"\n \nMission Viejo Eleme
 ntary School\n3855 S. Alicia Parkway\nAurora, CO 80013\n \nmap:  htt
 p://g.co/maps/eydwj\n \nhttp://www.cindyacree.com/\n \n \n \n \n\
 nFor more information visit http://arapahoeteaparty.ning.com/events/to
 wnhall-what-really-happened-this-session-rep-cindy-acree
DTSTART:20120522T003000Z
DTEND:20120522T013000Z
CATEGORIES:townhall
LOCATION:Mission Viejo Elementary School
WEBSITE:http://www.cindyacree.com/
URL:http://www.cindyacree.com/
CONTACT:
ORGANIZER:Rep. Cindy Acree [posted by W. Branstetter]
ATTACH;FMTTYPE="image/jpeg":
ATTENDEE;ROLE=REQ-PARTICIPANT;PARTSTAT=ACCEPTED;RSVP=TRUE;CN="W. Brans
 tetter":http://arapahoeteaparty.ning.com/profile/WBranstetter
END:VEVENT
END:VCALENDAR
