BEGIN:VCALENDAR
PRODID:NingEventWidget-v1
VERSION:2.0
METHOD:PUBLISH
BEGIN:VEVENT
UID:3186561:Event:40723
DTSTAMP:20210313T173527Z
SUMMARY:Townhall with Rep. Spencer Swalm
DESCRIPTION:Looking through the room schedule at the Smoky Hill Librar
 y, it appears that Representative Spencer Swalm reserved Room B some t
 ime ago.  As more information becomes available it will be added here
 .\n  ************************\n  Note:  Library closes promptly at 
 9:00 p.m.\n Disclaimer: \"Granting of permission by the Arapahoe Libra
 ry District to use library facilities does not constitute endorsement 
 by the Library District Staff or Board of Trustees. \" Only signs that
  are 8 ½ x 11 are allowed to be posted & only by the meeting room(s).
 \n \n \n   \n \n\nFor more information visit http://arapahoeteap
 arty.ning.com/events/townh
DTSTART:20121220T013000Z
DTEND:20121220T040000Z
CATEGORIES:townhall
LOCATION:Smoky Hill Library; Room B
WEBSITE:
URL:
CONTACT:
ORGANIZER:posted by W. Branstetter
ATTACH;FMTTYPE="image/jpeg":
ATTENDEE;ROLE=REQ-PARTICIPANT;PARTSTAT=ACCEPTED;RSVP=TRUE;CN="W. Brans
 tetter":http://arapahoeteaparty.ning.com/profile/WBranstetter
END:VEVENT
END:VCALENDAR
