BEGIN:VCALENDAR
PRODID:NingEventWidget-v1
VERSION:2.0
METHOD:PUBLISH
BEGIN:VEVENT
UID:3186561:Event:42024
DTSTAMP:20210313T171844Z
SUMMARY:Town Hall Meeting with Rep. Daniel Kagan
DESCRIPTION:It seems that many of the Colorado state legislators have 
 scheduled some townhalls.  This is one that is scheduled for Monday e
 vening; apparently all of the other townhalls were scheduled for Satur
 day morning.\n\nFor those who have been following the legislative sess
 ions at the capitol and have heard some of the legislators speaking, t
 his gentleman may be identified by his obviously \"British accent.\" 
  He is part of the majority (Democrat) party.  If you are in his area
 /district, please attend his townhall and learn firsthand what he has 
 to say about the bills he is sponsoring or supporting or the committee
  assignments.\n\nCherry Hills Village Community Center,\n2460 East Qui
 ncy Avenue,\nCherry Hills Village, Colorado 80113  Monday, Feb. 18, 20
 13 from 6:30 to 8:00 p.m. \n\nRep. Daniel Kagan's web page:\nhttp://w
 ww.dankagan.com/\n\nBe sure to be informed; get involved.\n\n\nFor mor
 e information visit http://arapahoeteaparty.ning.com/events/town-hall-
 meeting-with-rep-daniel-kagan
DTSTART:20130219T013000Z
DTEND:20130219T030000Z
CATEGORIES:townhall
LOCATION:Cherry Hills Village Community Center
WEBSITE:
URL:
CONTACT:
ORGANIZER:Rep. Daniel Kagan  [posted by W. Branstetter]
ATTACH;FMTTYPE="image/jpeg":
END:VEVENT
END:VCALENDAR
