BEGIN:VCALENDAR
PRODID:NingEventWidget-v1
VERSION:2.0
METHOD:PUBLISH
BEGIN:VEVENT
UID:3186561:Event:36583
DTSTAMP:20210313T171737Z
SUMMARY:TONIGHT!-Randy Corporon in with Ken Clark on Grassroots Radio 
 Colorado
DESCRIPTION:I will be sitting in for Jason Worley tonight, Wednesday a
 nd Thursday.  The Flip-flopper-in-Chief, Hickenlooper's Special Sessi
 on, freedom's decline, and, I heard there was an election coming up. W
 e'll find something to talk about! Hope you'll join us! 303-477-5600.\
 n\nFor more information visit http://arapahoeteaparty.ning.com/events/
 tonight-randy-corporon-in-with-ken-clark-on-grassroots-radio-colo
DTSTART:20120514T230000Z
DTEND:20120515T010000Z
CATEGORIES:conservative, talk, radio
LOCATION:Denver's KLZ AM 560 The Source, or, www.560thesource.com and 
 the new Smartphone app. No excuses!
WEBSITE:
URL:
CONTACT:Studio line: 303-477-5600
ORGANIZER;CN="Randy B Corporon":http://arapahoeteaparty.ning.com/profi
 le/RandyBCorporon
ATTACH;FMTTYPE="image/jpeg":
ATTENDEE;ROLE=REQ-PARTICIPANT;PARTSTAT=ACCEPTED;RSVP=TRUE;CN="W. Brans
 tetter":http://arapahoeteaparty.ning.com/profile/WBranstetter
ATTENDEE;ROLE=REQ-PARTICIPANT;PARTSTAT=ACCEPTED;RSVP=TRUE;CN="Randy B 
 Corporon":http://arapahoeteaparty.ning.com/profile/RandyBCorporon
END:VEVENT
END:VCALENDAR
