BEGIN:VCALENDAR
PRODID:NingEventWidget-v1
VERSION:2.0
METHOD:PUBLISH
BEGIN:VEVENT
UID:3186561:Event:53585
DTSTAMP:20210313T172813Z
SUMMARY:Tonight:  Lakewood, CO, Tea Party Monthly Meeting
DESCRIPTION:Join us at 1490 South Pierce Street (NE Corner)Tuesday Jan
 uary 20,2015 at 7 PMOur main speaker, Max Brewster, will present anoth
 er tool the Founders provided to bring our country back to First Princ
 iples. Join us for his information about Common Law and Grand Juries. 
 Folks in the Liberty movement are fond of saying, \"Do your own homewo
 rk.\" Since this is a little known topic, that phrase is especially me
 aningful and, in this case, easily done. Go to www.NationalLibertyAll
 iance.org to get prepared for this program.Ed Hanks will bring copies
  of his new book: How to Train Your Politician. He'll talk to us about
  its main points and be available to answer questions.For activism, we
  will learn what we can do to influence decisions at County and State 
 Party levels and important dates involved.\n\nhttps://www.facebook.com
 /events/701783523270410\n\n\n\nFor more information visit http://arapa
 hoeteaparty.ning.com/events/tonight-lakewood-co-tea-party-monthly-meet
 ing
DTSTART:20150121T020000Z
DTEND:20150121T040000Z
CATEGORIES:"monthly meeting"
LOCATION:(NE corner)
WEBSITE:
URL:
CONTACT:
ORGANIZER:Linda Mackety [posted by W. Branstetter]
ATTACH;FMTTYPE="image/jpeg":
END:VEVENT
END:VCALENDAR
