BEGIN:VCALENDAR
PRODID:NingEventWidget-v1
VERSION:2.0
METHOD:PUBLISH
BEGIN:VEVENT
UID:3186561:Event:40478
DTSTAMP:20210313T172612Z
SUMMARY:Tonight! \"Gas or Groceries Relief Party\" at Independence Ins
 titute
DESCRIPTION:This is TONIGHT!  RSVP to Mary listed below.\n\nBad econo
 my got you down? Feeling like you can use a break from the \"economy t
 ax?\"\n\nWell, the Independence Institute is here to provide relief! C
 ome party with us on:\nFriday, October 19th,\n5-8 pm\nFreedom Embassy\
 n727 E. 16th Avenue\nDenver, Colorado\n\nWe will be providing relief i
 n the form of hot dogs, chips and lemonade (for the first 200 people),
  and FUN! FUN! FUN! (yes, we're going to have a big bouncy house).\nWe
  will have a drawing for gift certificates for BOTH groceries and gas!
   RSVP for FREE with Mary MacFarlane at 303-279-6536, ext. 102 or mar
 y@i2i.org\n\n\nhttp://www.i2i.org/events.php\n\nObservation:  Not all
  parts of the building at the Independence Institute are accessible f
 or people with mobility limitations.  Please keep that in mind to inq
 uire about if you RSVP.\n \n\n\n\nFor more information visit http://a
 rapahoeteaparty.ning.com/events/tonight-gas-or-groceries-relief-party-
 at-independence-institute
DTSTART:20121019T230000Z
DTEND:20121020T030000Z
CATEGORIES:party
LOCATION:Independence Institute
WEBSITE:http://www.i2i.org/events.php
URL:http://www.i2i.org/events.php
CONTACT:Mary McFarlane at (303) 279-6536 ext 102 or mary@i2i.org
ORGANIZER:posted by W. Branstetter
ATTACH;FMTTYPE="image/jpeg":
END:VEVENT
END:VCALENDAR
