BEGIN:VCALENDAR
PRODID:NingEventWidget-v1
VERSION:2.0
METHOD:PUBLISH
BEGIN:VEVENT
UID:3186561:Event:37156
DTSTAMP:20210313T171755Z
SUMMARY:Tonight with Trevor Loudon-Randy Corporon on Grassroots Radio 
 Colorado
DESCRIPTION:TREVOR LOUDON TONIGHT FROM 5:30 -6 PM, BARACK OBAMA AND TH
 E ENEMIES WITHIN and more.  Please join me tonight as I sit in for J
 ason Worley with Kenneth Clark on Grassrootsradio Colorado 5-7 PM
 . Available worldwide on KLZ Denver AM 560 The Source, www.560thesour
 ce.com, and smartphones everywhere with the new Grassroots Radio app, 
 Tunein app and anytime via podcast at www.podomatic.com.   Colorado'
 s home for the Liberty Movement. Got something to say? Call the show, 
 303-477-5600.\n\nFor more information visit http://arapahoeteaparty.ni
 ng.com/events/tonight-and-wednesday-randy-corporon-on-grassroots-radio
 -colorado
DTSTART:20120523T230000Z
DTEND:20120524T010000Z
CATEGORIES:conservative, talk, radio
LOCATION:KLZ AM 560 The Source, Denver, or, www.560thesource.com, or s
 martphones everywhere with the new Grassroots Radio app, Tuneinradio a
 pp, podcasts anytime at www.podomatic.com
WEBSITE:
URL:
CONTACT:303-477-5600
ORGANIZER;CN="Randy B Corporon":http://arapahoeteaparty.ning.com/profi
 le/RandyBCorporon
ATTACH;FMTTYPE="image/jpeg":
ATTENDEE;ROLE=REQ-PARTICIPANT;PARTSTAT=ACCEPTED;RSVP=TRUE;CN="Randy B 
 Corporon":http://arapahoeteaparty.ning.com/profile/RandyBCorporon
ATTENDEE;ROLE=REQ-PARTICIPANT;PARTSTAT=ACCEPTED;RSVP=TRUE;CN="W. Brans
 tetter":http://arapahoeteaparty.ning.com/profile/WBranstetter
ATTENDEE;ROLE=REQ-PARTICIPANT;PARTSTAT=TENTATIVE;RSVP=TRUE;CN="Dave Ph
 ipps":http://arapahoeteaparty.ning.com/profile/DavePhipps917
END:VEVENT
END:VCALENDAR
