BEGIN:VCALENDAR
PRODID:NingEventWidget-v1
VERSION:2.0
METHOD:PUBLISH
BEGIN:VEVENT
UID:3186561:Event:48199
DTSTAMP:20210313T182612Z
SUMMARY:\"The Jimmy Sengenberger Show\" -- Week 9
DESCRIPTION:Reminder for this program:\nÂ \n\"The Jimmy Sengenberger S
 how\" is a new program thatÂ started on 710 KNUS radio Saturday, Septe
 mber 21, 5 p.m. to 8 p.m.\n\nLast week Jimmy spoke with Derrick Wilbur
 n's group, American Conservatives of Color, and Randy Corporon hosted 
 the program.Â  Jimmy will have plenty to talk about.Â \nÂ \nJimmy Seng
 enberger had the \"Seng Center\" program on the Regis University campu
 s until he graduated a couple of years ago.Â  He has filled in for a v
 ariety of radio hosts all over the metro area and Greeley.\nÂ \nDonâ€™
 t miss it!Â  Tune in to 710 KNUS or online at http://www.710knus.com/ 
 from 5 to 8 PM. CallÂ  303-696-1071.\nÂ \nPromotional spots will be ai
 ring on 710 KNUS starting Wednesday, September 18.\nÂ \nTune in and fi
 nd out what the young man might have to say.Â  It is the weekend so th
 ere may be Friday news you have not heard.\nÂ \nThe podcasts for the p
 rogram can be found on the 710 KNUS podcasts page.Â  Look for Jimmy Se
 ngenberger:\n\nhttp://www.710knus.com/podcastlineup.aspx\n\nÂ \nÂ \n Â
  \n\n\nFor more information visit http://arapahoeteaparty.ning.com/eve
 nts/the-jimmy-sengenberger-show-week-9
DTSTART:20131117T000000Z
DTEND:20131117T030000Z
CATEGORIES:"radio show"
LOCATION:\"Radio  AM 710 KNUS\"
WEBSITE:http://www.710knus.com/
URL:http://www.710knus.com/
CONTACT:
ORGANIZER:[posted by W. Branstetter]
ATTACH;FMTTYPE="image/jpeg":
ATTENDEE;ROLE=REQ-PARTICIPANT;PARTSTAT=ACCEPTED;RSVP=TRUE;CN="W. Brans
 tetter":http://arapahoeteaparty.ning.com/profile/WBranstetter
END:VEVENT
END:VCALENDAR
