BEGIN:VCALENDAR
PRODID:NingEventWidget-v1
VERSION:2.0
METHOD:PUBLISH
BEGIN:VEVENT
UID:3186561:Event:47842
DTSTAMP:20210313T182158Z
SUMMARY:\"The Jimmy Sengenberger Show\" -- Week 8 -- Randy Corporon ho
 sts show
DESCRIPTION:Reminder for this program:\n \n\"The Jimmy Sengenberger S
 how\" is a new program that started on 710 KNUS radio Saturday, Septe
 mber 21, 5 p.m. to 8 p.m.\n\nThis is Week 8 and Jimmy is out of town a
 nd asked Randy Corporon to be the guest host.  Randy seems to be gett
 ing a lot of air time lately.  This should be interesting first oppor
 tunity to talk after the election.\n \nJimmy Sengenberger had the \"S
 eng Center\" program on the Regis University campus until he graduated
  a couple of years ago.  He has filled in for a variety of radio host
 s all over the metro area and Greeley.\n \nDon’t miss it!  Tune in
  to 710 KNUS or online at http://www.710knus.com/ from 5 to 8 PM. Call
   303-696-1071.\n \nPromotional spots will be airing on 710 KNUS sta
 rting Wednesday, September 18.\n \nTune in and find out what the youn
 g man might have to say.  It is the weekend so there may be Friday ne
 ws you have not heard.\n \nThe podcasts for the program can be found 
 on the 710 KNUS podcasts page.  Look for Jimmy Sengenberger:\n\nhttp:
 //www.710knus.com/podcastlineup.aspx\n\n \n \n  \n\n\nFor more info
 rmation visit http://arapahoeteaparty.ning.com/events/the-jimmy-sengen
 berger-show-week-8-randy-corporon-hosts-show
DTSTART:20131110T000000Z
DTEND:20131110T030000Z
CATEGORIES:"radio show"
LOCATION:\"Radio  AM 710 KNUS\"
WEBSITE:http://www.710knus.com/
URL:http://www.710knus.com/
CONTACT:
ORGANIZER:[posted by W. Branstetter]
ATTACH;FMTTYPE="image/jpeg":
ATTENDEE;ROLE=REQ-PARTICIPANT;PARTSTAT=ACCEPTED;RSVP=TRUE;CN="Randy B 
 Corporon":http://arapahoeteaparty.ning.com/profile/RandyBCorporon
ATTENDEE;ROLE=REQ-PARTICIPANT;PARTSTAT=ACCEPTED;RSVP=TRUE;CN="W. Brans
 tetter":http://arapahoeteaparty.ning.com/profile/WBranstetter
END:VEVENT
END:VCALENDAR
