BEGIN:VCALENDAR
PRODID:NingEventWidget-v1
VERSION:2.0
METHOD:PUBLISH
BEGIN:VEVENT
UID:3186561:Event:48070
DTSTAMP:20210313T173834Z
SUMMARY:\"The Jimmy Sengenberger Show\" -- Week 7
DESCRIPTION:Reminder for this program:\n \n\"The Jimmy Sengenberger S
 how\" is a new program that started on 710 KNUS radio Saturday, Septe
 mber 21, 5 p.m. to 8 p.m.\n \nJimmy Sengenberger had the \"Seng Cente
 r\" program on the Regis University campus until he graduated a couple
  of years ago.  He has filled in for a variety of radio hosts all ove
 r the metro area and Greeley.\n \nDon’t miss it!  Tune in to 710 K
 NUS or online at http://www.710knus.com/ from 5 to 8 PM. Call  303-69
 6-1071.\n \nPromotional spots will be airing on 710 KNUS starting Wed
 nesday, September 18.\n \nTune in and find out what the young man mig
 ht have to say.  It is the weekend so there may be Friday news you ha
 ve not heard.\n \nThe podcasts for the program can be found on the 71
 0 KNUS podcasts page.  Look for Jimmy Sengenberger:\n\nhttp://www.710
 knus.com/podcastlineup.aspx\n\n \n \n  \n\n\nFor more information v
 isit http://arapahoeteaparty.ning.com/events/the-jimmy-sengenberger-sh
 ow-week-7
DTSTART:20131102T230000Z
DTEND:20131103T020000Z
CATEGORIES:"radio show"
LOCATION:\"Radio  AM 710 KNUS\"
WEBSITE:http://www.710knus.com/
URL:http://www.710knus.com/
CONTACT:
ORGANIZER:[posted by W. Branstetter]
ATTACH;FMTTYPE="image/jpeg":
ATTENDEE;ROLE=REQ-PARTICIPANT;PARTSTAT=ACCEPTED;RSVP=TRUE;CN="W. Brans
 tetter":http://arapahoeteaparty.ning.com/profile/WBranstetter
END:VEVENT
END:VCALENDAR
