BEGIN:VCALENDAR
PRODID:NingEventWidget-v1
VERSION:2.0
METHOD:PUBLISH
BEGIN:VEVENT
UID:3186561:Event:48345
DTSTAMP:20210313T172635Z
SUMMARY:\"The Jimmy Sengenberger Show\" -- Week 13
DESCRIPTION:Reminder for this program:\n\nThere is much to talk about 
 this week.\nÂ \n\"The Jimmy Sengenberger Show\" is a new program thatÂ
  started on 710 KNUS radio Saturday, September 21, 5 p.m. to 8 p.m.\n\
 nÂ \nJimmy Sengenberger had the \"Seng Center\" program on the Regis U
 niversity campus until he graduated a couple of years ago.Â  He has fi
 lled in for a variety of radio hosts all over the metro area and Greel
 ey.\nÂ \nDonâ€™t miss it!Â  Tune in to 710 KNUS or online at http://ww
 w.710knus.com/ from 5 to 8 PM. CallÂ  303-696-1071.\nÂ \nPromotional s
 pots will be airing on 710 KNUS starting Wednesday, September 18.\nÂ \
 nTune in and find out what the young man might have to say.Â  It is th
 e weekend so there may be Friday news you have not heard.\nÂ \nThe pod
 casts for the program can be found on the 710 KNUS podcasts page.Â  Lo
 ok for Jimmy Sengenberger:\n\nhttp://www.710knus.com/podcastlineup.asp
 x\n\nÂ \nÂ \n Â \n\n\nFor more information visit http://arapahoeteapar
 ty.ning.com/events/the-jimmy-sengenberger-show-week-13
DTSTART:20131215T000000Z
DTEND:20131215T030000Z
CATEGORIES:"radio show"
LOCATION:\"Radio  AM 710 KNUS\"
WEBSITE:http://www.710knus.com/
URL:http://www.710knus.com/
CONTACT:
ORGANIZER:[posted by W. Branstetter]
ATTACH;FMTTYPE="image/jpeg":
ATTENDEE;ROLE=REQ-PARTICIPANT;PARTSTAT=ACCEPTED;RSVP=TRUE;CN="W. Brans
 tetter":http://arapahoeteaparty.ning.com/profile/WBranstetter
END:VEVENT
END:VCALENDAR
