BEGIN:VCALENDAR
PRODID:NingEventWidget-v1
VERSION:2.0
METHOD:PUBLISH
BEGIN:VEVENT
UID:3186561:Event:47863
DTSTAMP:20210313T182500Z
SUMMARY:\"The Jimmy Sengenberger Show\" -- program 2nd week
DESCRIPTION:A late reminder for this program:\n \n\"The Jimmy Sengenb
 erger Show\" is a new program that started on 710 KNUS radio Saturday
 , September 21, 5 p.m. to 8 p.m.\n \nJimmy Sengenberger had the \"Sen
 g Center\" program on the Regis University campus until he graduated a
  couple of years ago.  He has filled in for a variety of radio hosts 
 all over the metro area and Greeley.\n \nDon’t miss it!  Tune in t
 o 710 KNUS or online at http://www.710knus.com/ from 5 to 8 PM. Call 
  303-696-1071.\n \nPromotional spots will be airing on 710 KNUS start
 ing Wednesday, September 18.\n \nTune in and find out what the young 
 man might have to say.\n \nThe podcasts for the program can be found 
 on the 710 KNUS podcasts page.  Look for Jimmy Sengenberger:\n\nhttp:
 //www.710knus.com/podcastlineup.aspx\n\nThe main guest was Pastor Rafa
 el Cruz in the first hour; but Randy Corporon our group leader called 
 in and there was an in studio guest the third hour who grew up in Peru
  years ago.\n \n  \n\n\nFor more information visit http://arapahoete
 aparty.ning.com/events/the-jimmy-sengenberger-show-program-2nd-week
DTSTART:20130928T230000Z
DTEND:20130929T020000Z
CATEGORIES:"radio show"
LOCATION:\"Radio  AM 710 KNUS\"
WEBSITE:http://www.710knus.com/
URL:http://www.710knus.com/
CONTACT:
ORGANIZER:[posted by W. Branstetter]
ATTACH;FMTTYPE="image/jpeg":
ATTENDEE;ROLE=REQ-PARTICIPANT;PARTSTAT=ACCEPTED;RSVP=TRUE;CN="W. Brans
 tetter":http://arapahoeteaparty.ning.com/profile/WBranstetter
ATTENDEE;ROLE=REQ-PARTICIPANT;PARTSTAT=ACCEPTED;RSVP=TRUE;CN="Randy B 
 Corporon":http://arapahoeteaparty.ning.com/profile/RandyBCorporon
END:VEVENT
END:VCALENDAR
