BEGIN:VCALENDAR
PRODID:NingEventWidget-v1
VERSION:2.0
METHOD:PUBLISH
BEGIN:VEVENT
UID:3186561:Event:47549
DTSTAMP:20210313T193423Z
SUMMARY:\"The Jimmy Sengenberger Show\" -- kickoff program
DESCRIPTION:\"The Jimmy Sengenberger Show\" is a new program starting 
 on 710 KNUS radio Saturday, September 21, 5 p.m. to 8 p.m.\n \nJimmy 
 Sengenberger had the \"Seng Center\" program on the Regis University c
 ampus until he graduated a couple of years ago.  He has filled in for
  a variety of radio hosts all over the metro area and Greeley.\n \nDo
 n’t miss it!  Tune in to 710 KNUS or online at http://www.710knus.c
 om/ from 5 to 8 PM. Call  303-696-1071.\n \nPromotional spots will b
 e airing on 710 KNUS starting Wednesday, September 18.\n \nTune in an
 d find out what the young man might have to say.\n \n  \n\n\nFor mor
 e information visit http://arapahoeteaparty.ning.com/events/the-jimmy-
 sengenberger-show-kickoff-program
DTSTART:20130921T230000Z
DTEND:20130922T020000Z
CATEGORIES:"radio show"
LOCATION:\"Radio  AM 710 KNUS\"
WEBSITE:http://www.710knus.com/
URL:http://www.710knus.com/
CONTACT:
ORGANIZER:[posted by W. Branstetter]
ATTACH;FMTTYPE="image/jpeg":
ATTENDEE;ROLE=REQ-PARTICIPANT;PARTSTAT=ACCEPTED;RSVP=TRUE;CN="Randy B 
 Corporon":http://arapahoeteaparty.ning.com/profile/RandyBCorporon
ATTENDEE;ROLE=REQ-PARTICIPANT;PARTSTAT=ACCEPTED;RSVP=TRUE;CN="W. Brans
 tetter":http://arapahoeteaparty.ning.com/profile/WBranstetter
END:VEVENT
END:VCALENDAR
