BEGIN:VCALENDAR
PRODID:NingEventWidget-v1
VERSION:2.0
METHOD:PUBLISH
BEGIN:VEVENT
UID:3186561:Event:55610
DTSTAMP:20210313T173200Z
SUMMARY:The American Experiment movie night series:  \"What's In A Rev
 olution?\"
DESCRIPTION:The American Experiment (www.american-experiment.org, www
 .facebook.com/TheAmericanExperiment) is having a Movie Night series - 
 What's in a Revolution, starting on January 12th with the American Re
 volution.\nThe American, French and Russian Revolutions were all about
  people trying to liberate themselves from their government and yet on
 ly the Americans ended up in a free society - why? What made the diffe
 rence? At each event we will watch a movie on the revolution of the ni
 ght (while eating popcorn of course!). Afterwards we'll discuss what h
 appened. You'll receive a handout that includes the circumstances lead
 ing up to the revolution and takeways. It is fascinating to see how dr
 amatically different each one was. You'll learn interesting facts like
  which revolution created the metric system and why? What did the Enli
 ghtenment period have to do with? And in which country was there actua
 lly two revolutions?\nYou do not need to attend all the movie nights, 
 but for maximum impact do come to all three. American RevolutionJanua
 ry 12, 2016French RevolutionFebruary 9, 2016 Russian RevolutionMarch 
 8, 2016While there is no charge, please RSVP at:Movienightam.eventbrit
 e.com (map) orRobin@American-Experiment .org\n\n\nFor more informatio
 n visit http://arapahoeteaparty.ning.com/events/the-american-experimen
 t-movie-night-series-what-s-in-a-revolution
DTSTART:20160113T014500Z
DTEND:20160113T040000Z
CATEGORIES:movie
LOCATION:Connections
WEBSITE:http://www.eventbrite.com/e/movie-night-whats-in-a-revolution-
 american-revolution-tickets-19918729456
URL:http://www.eventbrite.com/e/movie-night-whats-in-a-revolution-amer
 ican-revolution-tickets-19918729456
CONTACT:
ORGANIZER:Robin [posted by W. Branstetter]
ATTACH;FMTTYPE="image/jpeg":
END:VEVENT
END:VCALENDAR
