BEGIN:VCALENDAR
PRODID:NingEventWidget-v1
VERSION:2.0
METHOD:PUBLISH
BEGIN:VEVENT
UID:3186561:Event:58983
DTSTAMP:20210313T173144Z
SUMMARY:The American Experiment movie night series:  \"What's In A Rev
 olution?\"
DESCRIPTION:The American Experiment (www.american-experiment.org, www
 .facebook.com/TheAmericanExperiment) is replaying a Movie Night series
  - What's in a Revolution, starting on June 16 with the American Revo
 lution.\n The American, French and Russian Revolutions were all about 
 people trying to liberate themselves from their government and yet onl
 y the Americans ended up in a free society - why? What made the differ
 ence? At each event we will watch a movie on the revolution of the nig
 ht (while eating popcorn of course!). Afterwards we'll discuss what ha
 ppened. You'll receive a handout that includes the circumstances leadi
 ng up to the revolution and takeways. It is fascinating to see how dra
 matically different each one was. You'll learn interesting facts like 
 which revolution created the metric system and why? What did the Enlig
 htenment period have to do with? And in which country was there actual
 ly two revolutions?\n You do not need to attend all the movie nights, 
 but for maximum impact do come to all three.   American Revolution Ju
 ne 16, 2016  French Revolution July 21, 2016   Russian Revolution Aug
 ust 18, 2016   While there is no charge, please RSVP at:http://www.eve
 ntbrite.com/e/movie-night-whats-in-a-revolution-american-revolution-ti
 ckets-25684315479\n(map) or Robin@American-Experiment .org\n\n\nFor mo
 re information visit http://arapahoeteaparty.ning.com/events/the-ameri
 can-experiment-movie-night-series-what-s-in-a-revoluti-2
DTSTART:20160617T004500Z
DTEND:20160617T030000Z
CATEGORIES:movie
LOCATION:Connections
WEBSITE:http://www.eventbrite.com/e/movie-night-whats-in-a-revolution-
 american-revolution-tickets-25684315479
URL:http://www.eventbrite.com/e/movie-night-whats-in-a-revolution-amer
 ican-revolution-tickets-25684315479
CONTACT:
ORGANIZER:Robin [posted by W. Branstetter]
ATTACH;FMTTYPE="image/jpeg":
ATTENDEE;ROLE=REQ-PARTICIPANT;PARTSTAT=ACCEPTED;RSVP=TRUE;CN="W. Brans
 tetter":http://arapahoeteaparty.ning.com/profile/WBranstetter
END:VEVENT
END:VCALENDAR
