BEGIN:VCALENDAR
PRODID:NingEventWidget-v1
VERSION:2.0
METHOD:PUBLISH
BEGIN:VEVENT
UID:3186561:Event:56080
DTSTAMP:20210313T173134Z
SUMMARY:The American Experiment movie night series:  \"What's In A Rev
 olution?  French Revolution\"
DESCRIPTION:The American Experiment (www.american-experiment.org,Â www
 .facebook.com/TheAmericanExperiment) continuesÂ Movie Night series - W
 hat's in a Revolution, FrenchÂ Revolution.\n\nRound Two, February 9 at
  6:45-9:00 p.m. - please RSVP: atÂ MovieNightFR.eventbrite.comÂ Â orÂ 
 robin@american-experiment.orgÂ (No charge)\n\nThe American Experiment'
 s second movie of the series is on the French Revolution. What went wr
 ong that allowed the reign of Terror and then Napoleon instead of free
 dom as American's had after their revolution? If you missed the first 
 one, still come. Each event is stand alone. You will learn the role th
 e Enlightenment played along with creation of the metric system. While
  there was not many years between the two revolutions, there was drama
 tic philosophical, political and practical differences.\nThe American,
  French and Russian revolutions were supposed to be all about people l
 iberating themselves. Yet two ended in absolute tyranny. Why? What mad
 e the American Revolution so different? How did Americans become the f
 reest people in the world? Join us to find the answers to these powerf
 ul questions.\nWe all love movies. View a movie with us on each of the
 se revolutions and discover why the people in each country revolted. L
 earn why they acted and responded the way they did. Bring your family 
 and friends and enjoy the popcorn!\nWe will start with the American Re
 volution and proceed to the other two. You do not need to attend all t
 he movie nights, but for maximum impact come to all three.Â \nAt each 
 movie we will first cover the circumstances leading up to that nightâ€
 ™s revolution. Then we will watch the movie. Afterwards kick back and 
 discuss with us what we just learned and help finish up the popcorn! Y
 ou will receive a handout detailing the pre-revolutionary circumstance
 s and the takeaways that explain why the American Revolution turned ou
 t so differently than the French and Russian Revolutions. You will rec
 eive the handouts from any previous movie night events.\n\n\nAmerican 
 Revolution [January]  French Revolution February 9, 2016Â   Russian Re
 volution March 8, 2016   No charge, information at: Movienightam.event
 brite.comÂ (map) or Robin@American-Experiment.org\n\n\nFor more inform
 ation visit http://arapahoeteaparty.ning.com/events/the-american-exper
 iment-movie-night-series-what-s-in-a-revoluti-1
DTSTART:20160210T014500Z
DTEND:20160210T040000Z
CATEGORIES:movie
LOCATION:Connections
WEBSITE:http://www.american-experiment.org/
URL:http://www.american-experiment.org/
CONTACT:
ORGANIZER:Robin [posted by W. Branstetter]
ATTACH;FMTTYPE="image/jpeg":
ATTENDEE;ROLE=REQ-PARTICIPANT;PARTSTAT=TENTATIVE;RSVP=TRUE;CN="David M
 . Petteys":http://arapahoeteaparty.ning.com/profile/DavidMPetteys
END:VEVENT
END:VCALENDAR
