BEGIN:VCALENDAR
PRODID:NingEventWidget-v1
VERSION:2.0
METHOD:PUBLISH
BEGIN:VEVENT
UID:3186561:Event:56467
DTSTAMP:20210313T173205Z
SUMMARY:The American Experiment movie night series:  \"What Is In A Re
 volution?  Russian Revolution\"
DESCRIPTION:The American Experiment (www.american-experiment.org,Â www
 .facebook.com/TheAmericanExperiment) continuesÂ Movie Night series - W
 hat's in a Revolution, Russian Revolution.\n\nRound Three, March 8 at 
 6:45-9:00 p.m. - please RSVP: atÂ http://www.eventbrite.com/e/movie-ni
 ght-russian-revolution-tickets-21569542081Â  orÂ robin@american-experi
 ment.orgÂ (No charge)\n\nThe American Experiment's third movie of the 
 series is on the Russian RevolutionÂ discussing why did Americans beco
 me the freest people whereas France and Russia quickly fell back into 
 tyranny.\n\n\nWhat happened that allowed a series of revolutions that 
 left Russia reeling and quickly falling into communism instead of free
 dom? Even you have not attended the other two, still come. Each event 
 is stand alone. You will learn the role the Enlightenment (western tho
 ught) and the role eastern thought played along with serfdom and absol
 ute rulership of a czar. Many years have passed since the American and
  French revolutions, how has technology changed? And what does all thi
 s have to do with America today? (hint - socialism) No charge :)\n\nTh
 e American, French and Russian revolutions were supposed to be all abo
 ut people liberating themselves. Yet two ended in absolute tyranny. Wh
 y? What made the American Revolution so different? How did Americans b
 ecome the freest people in the world? Join us to find the answers to t
 hese powerful questions.\nWe all love movies. View a movie with us on 
 each of these revolutions and discover why the people in each country 
 revolted. Learn why they acted and responded the way they did. Bring y
 our family and friends and enjoy the popcorn!\nWe will start with the 
 American Revolution and proceed to the other two. You do not need to a
 ttend all the movie nights, but for maximum impact come to all three.Â
  \nAt each movie we will first cover the circumstances leading up to t
 hat nightâ€™s revolution. Then we will watch the movie. Afterwards kic
 k back and discuss with us what we just learned and help finish up the
  popcorn! You will receive a handout detailing the pre-revolutionary c
 ircumstances and the takeaways that explain why the American Revolutio
 n turned out so differently than the French and Russian Revolutions. Y
 ou will receive the handouts from any previous movie night events.\n\n
 \nAmerican Revolution [January]  French Revolution [February] Russian 
 Revolution March 8, 2016   No charge, information at: http://www.event
 brite.com/e/movie-night-russian-revolution-tickets-21569542081Â (map) 
 or Robin@American-Experiment.org\n\n\nFor more information visit http:
 //arapahoeteaparty.ning.com/events/the-american-experiment-movie-night
 -series-what-is-in-a-revolutio
DTSTART:20160309T014500Z
DTEND:20160309T034500Z
CATEGORIES:movie
LOCATION:Connections
WEBSITE:http://www.eventbrite.com/e/movie-night-russian-revolution-tic
 kets-21569542081
URL:http://www.eventbrite.com/e/movie-night-russian-revolution-tickets
 -21569542081
CONTACT:http://www.american-experiment.org/
ORGANIZER:Robin [posted by W. Branstetter]
ATTACH;FMTTYPE="image/jpeg":
END:VEVENT
END:VCALENDAR
