BEGIN:VCALENDAR
PRODID:NingEventWidget-v1
VERSION:2.0
METHOD:PUBLISH
BEGIN:VEVENT
UID:3186561:Event:58707
DTSTAMP:20210313T173155Z
SUMMARY:The American Experiment movie night series (French Revolution)
 :  \"What's In A Revolution?\"
DESCRIPTION:The American Experiment (www.american-experiment.org, www
 .facebook.com/TheAmericanExperiment) continues Movie Night series - W
 hat's in a Revolution, on July 21 with the French Revolution.\n\nWe s
 tart by reviewing what was happening in France leading up to their rev
 olution. After the movie we review the take-aways on your handout. Lea
 rn how different the American and French Revolutions were, different p
 aradigms to overcome. And of course dramatically different results - s
 uch as the Reign of Terror that has forever stamped the bloody guillot
 ine in our minds (which the movie really emphasizes, fortunately with 
 very fake looking blood). We also learn about the origin and purpose o
 f the metric system. Bring your family and friends and enjoy!\n\nWhile
  there is no charge, please RSVP.\n You do not need to attend all the 
 movie nights, but for maximum impact do come to all three.   American
  Revolution June 16, 2016  French Revolution July 21, 2016 at 6:45-8:4
 5 p.m.  Russian Revolution August 18, 2016   While there is no charge,
  please RSVP at: http://www.eventbrite.com/e/movie-night-whats-in-a-re
 volution-french-revolution-tickets-26105429041\n(map) or Robin@America
 n-Experiment .org\n\n\nFor more information visit http://arapahoeteapa
 rty.ning.com/events/the-american-experiment-movie-night-series-french-
 revolution-what
DTSTART:20160722T004500Z
DTEND:20160722T024500Z
CATEGORIES:movie
LOCATION:Connections
WEBSITE:http://www.eventbrite.com/e/movie-night-whats-in-a-revolution-
 french-revolution-tickets-26105429041
URL:http://www.eventbrite.com/e/movie-night-whats-in-a-revolution-fren
 ch-revolution-tickets-26105429041
CONTACT:
ORGANIZER:Robin [posted by W. Branstetter]
ATTACH;FMTTYPE="image/jpeg":
ATTENDEE;ROLE=REQ-PARTICIPANT;PARTSTAT=ACCEPTED;RSVP=TRUE;CN="W. Brans
 tetter":http://arapahoeteaparty.ning.com/profile/WBranstetter
END:VEVENT
END:VCALENDAR
