BEGIN:VCALENDAR
PRODID:NingEventWidget-v1
VERSION:2.0
METHOD:PUBLISH
BEGIN:VEVENT
UID:3186561:Event:9470
DTSTAMP:20210313T171342Z
SUMMARY:Tax Day Rally
DESCRIPTION:Hear Us Now is sponsoring again this year the Tax Day Rall
 y at the west steps of the state Capitol. \n \nThe speaker list is p
 ending and as soon as I have more information I will add items in comm
 ents below.\n \n \n\nFor more information visit http://arapahoeteapa
 rty.ning.com/events/tax-day-rally
DTSTART:20110415T170000Z
DTEND:20110415T190000Z
CATEGORIES:rally
LOCATION:west steps Colorado Capitol
WEBSITE:
URL:
CONTACT:
ORGANIZER;CN="W. Branstetter":http://arapahoeteaparty.ning.com/profile
 /WBranstetter
ATTACH;FMTTYPE="image/jpeg":
ATTENDEE;ROLE=REQ-PARTICIPANT;PARTSTAT=ACCEPTED;RSVP=TRUE;CN="Donna Ay
 delott":http://arapahoeteaparty.ning.com/profile/DonnaAydelott
ATTENDEE;ROLE=REQ-PARTICIPANT;PARTSTAT=ACCEPTED;RSVP=TRUE;CN="Victoria
  Anne Livingston":http://arapahoeteaparty.ning.com/profile/VictoriaAnn
 eLivingston
ATTENDEE;ROLE=REQ-PARTICIPANT;PARTSTAT=ACCEPTED;RSVP=TRUE;CN="Cathy Mi
 tchell":http://arapahoeteaparty.ning.com/profile/CathyMitchell
ATTENDEE;ROLE=REQ-PARTICIPANT;PARTSTAT=ACCEPTED;RSVP=TRUE;CN=reform:ht
 tp://arapahoeteaparty.ning.com/profile/reform
ATTENDEE;ROLE=REQ-PARTICIPANT;PARTSTAT=ACCEPTED;RSVP=TRUE;CN="Randy B 
 Corporon":http://arapahoeteaparty.ning.com/profile/RandyBCorporon
ATTENDEE;ROLE=REQ-PARTICIPANT;PARTSTAT=ACCEPTED;RSVP=TRUE;CN="Liz Veed
 er":http://arapahoeteaparty.ning.com/profile/LizVeeder
ATTENDEE;ROLE=REQ-PARTICIPANT;PARTSTAT=ACCEPTED;RSVP=TRUE;CN="Barbie H
 eath-Kelley":http://arapahoeteaparty.ning.com/profile/BarbieHeathKelle
 y
ATTENDEE;ROLE=REQ-PARTICIPANT;PARTSTAT=ACCEPTED;RSVP=TRUE;CN="Fredrick
  Lindner":http://arapahoeteaparty.ning.com/profile/FredrickDLindner
ATTENDEE;ROLE=REQ-PARTICIPANT;PARTSTAT=ACCEPTED;RSVP=TRUE;CN="karen hu
 rst":http://arapahoeteaparty.ning.com/profile/karenhurst
ATTENDEE;ROLE=REQ-PARTICIPANT;PARTSTAT=ACCEPTED;RSVP=TRUE;CN="W. Brans
 tetter":http://arapahoeteaparty.ning.com/profile/WBranstetter
END:VEVENT
END:VCALENDAR
