BEGIN:VCALENDAR
PRODID:NingEventWidget-v1
VERSION:2.0
METHOD:PUBLISH
BEGIN:VEVENT
UID:3186561:Event:5739
DTSTAMP:20210313T172127Z
SUMMARY:\"State Powers Summit\" by Republican Study Committee of Color
 ado
DESCRIPTION:FOR IMMEDIATE RELEASE:\n\nSeptember 16, 2010 - (Denver, CO
 ) -\n\nThe Republican Study Committee of Colorado (RSCC) will hold a p
 ublic hearing on Friday, September 24 titled the \"State Powers Summit
 \" from 10:00am-2:00pm. This hearing will be open to the public and wi
 ll be held in Hearing Room B of the Legislative Services Building, nex
 t to the state Capitol building.\n\n\n\nThe format will provide an opp
 ortunity to listen to prepared remarks from various speakers and will 
 allow time for a brief roundtable discussion on each topic. Featured s
 peakers will include Jonathan Williams, the director of the Tax and Fi
 scal Policy Task Force for the American Legislative Exchange Council (
 ALEC), Robert G. Natelson, Senior Fellow in Constitutional Jurispruden
 ce at the Independence Institute, Geoffrey Blue, Colorado Deputy Attor
 ney General for Legal Policy and Governmental Affairs, Senator Kevin L
 undberg from CO Senate District 15 and Representative Kent Lambert of 
 CO House District 14.\n\n\n\nThe agenda for the hearing is as follows:
 \n\n\n\n10:00 - 10:30 Opening Remarks and Introductions\n\n\n\n10:30 -
  11:00 Jonathan Williams (ALEC) \"Rich States, Poor States: The Pathwa
 y to Prosperity\"\n\n\n\n11:00 - 11:30 Senator Kevin Lundberg \"10th A
 mendment Resolution\"\n\n\n\n11:30 - 12:00 Jonathan Williams (ALEC) \"
 Restoring Federalism: Strategies for States\"\n\n\n\n12:00 - 12:30 Lun
 ch/open discussion\n\n\n\n12:30 - 1:00 Rob Natelson (Independence Inst
 itute) \"Amendment 63: Right to Health Care Choice\"\n\n\n\n1:00 - 1:3
 0 Geoff Blue (Office of the Attorney General of Colorado) \"Legal Chal
 lenge to Obamacare\"\n\n\n\n1:30 - 2:00 Representative Kent Lambert \"
 Colorado Economic Perspectives - Local Group Roundtable\"\n\n\n\nAddit
 ional information can be found at the RSCC website at www.rscc.us.\n\n
 http://www.rscc.us/home.html\n\n\nRefer to the following site for the 
 registration:\n\nhttp://www.rscc.us/powers.html\n\nFor more informatio
 n visit http://arapahoeteaparty.ning.com/events/state-powers-summit-by
DTSTART:20100924T160000Z
DTEND:20100924T200000Z
CATEGORIES:conference
LOCATION:Hearing Room B, Legislative Services Building, next to state 
 Capitol building
WEBSITE:http://www.rscc.us/powers.html
URL:http://www.rscc.us/powers.html
CONTACT:
ORGANIZER:Republican Study Committee of Colorado [posted by Wilma Bran
 stetter]
ATTACH;FMTTYPE="image/jpeg":
ATTENDEE;ROLE=REQ-PARTICIPANT;PARTSTAT=ACCEPTED;RSVP=TRUE;CN="W. Brans
 tetter":http://arapahoeteaparty.ning.com/profile/WBranstetter
END:VEVENT
END:VCALENDAR
