BEGIN:VCALENDAR
PRODID:NingEventWidget-v1
VERSION:2.0
METHOD:PUBLISH
BEGIN:VEVENT
UID:3186561:Event:35293
DTSTAMP:20210313T175902Z
SUMMARY:STAND UP FOR RELIGIOUS FREEDOM
DESCRIPTION:The Denver version of the national rally. See the link bel
 ow.\nPLEASE use the signs provided. Pls do NOT bring political party o
 r candidate signs or literature. Rally coordinators will be available 
 to any media that comes.\nNo RSVP needed.\n\nFor more information visi
 t http://arapahoeteaparty.ning.com/events/stand-up-for-religious-freed
 om
DTSTART:20120323T180000Z
DTEND:20120323T190000Z
CATEGORIES:rally
LOCATION:Colorado State Capitol, West Steps
WEBSITE:http://standupforreligiousfreedom.com/locations/
URL:http://standupforreligiousfreedom.com/locations/
CONTACT:
ORGANIZER:National Rally for Religious Freedom
ATTACH;FMTTYPE="image/jpeg":
ATTENDEE;ROLE=REQ-PARTICIPANT;PARTSTAT=ACCEPTED;RSVP=TRUE;CN="Lisa G S
 pear":http://arapahoeteaparty.ning.com/profile/LisaGSpear
END:VEVENT
END:VCALENDAR
