BEGIN:VCALENDAR
PRODID:NingEventWidget-v1
VERSION:2.0
METHOD:PUBLISH
BEGIN:VEVENT
UID:3186561:Event:54776
DTSTAMP:20210313T171413Z
SUMMARY:South Jeffco Tea Party (New Meeting Place):  UN Agenda 21 by R
 ichard Garrison
DESCRIPTION:NOTE:  New Meeting Location for South Jeffco Tea Party\n\
 nJune 11, 2015, 6:30 p.m.\nChurch For All Nations\n\n6500 West Coal Mi
 ne Avenue\nThe meeting starts at 6:30 p.m. --but come for fellowship a
 nd check-in at 6:00 p.m.\n\nWhat is the United Nations' Agenda 21? Doe
 s it really plan to cram all Americans into just a few urban corridors
  and ban humans from large parts of our country as the map below sugge
 sts? And how has Agenda 21 insinuated itself into federal, state, and 
 local government policies all over America?\nWill it be, like, \"total
 ly-no-fun-ever-again?\"\nFind out this Thursday when Richard Garrison 
 speaks at our next South Jeffco Tea Party meeting.\n\n****************
 **\n\nNote:  This presentation was the topic in May at Arapahoe Tea P
 arty and was extremely informative.  Check it out.\n\n\n\nFor more in
 formation visit http://arapahoeteaparty.ning.com/events/south-jeffco-t
 ea-party-new-meeting-place-un-agenda-21-by-richard-
DTSTART:20150612T003000Z
DTEND:20150612T023000Z
CATEGORIES:meeting
LOCATION:\"Church For All Nations\"
WEBSITE:
URL:
CONTACT:
ORGANIZER:So. Jeffco Tea Party (posted by W. Branstetter)
ATTACH;FMTTYPE="image/jpeg":
END:VEVENT
END:VCALENDAR
