BEGIN:VCALENDAR
PRODID:NingEventWidget-v1
VERSION:2.0
METHOD:PUBLISH
BEGIN:VEVENT
UID:3186561:Event:52225
DTSTAMP:20210313T172855Z
SUMMARY:South Jeffco Tea Party--Meeting with Tom Tancredo
DESCRIPTION:The announcement from South Jeffco Tea Party for tonight's
  meeting: October South Jeffco Tea Party Meeting. Tom Tancredo  speak
 ing.  Thursday, November 13, 2014 in the Aspen Room in the Fun City co
 mplex. Fun City is located at 9670 W. Coal Mine Ave., Littleton CO. Th
 at's at the corner of Kipling and Coal Mine. Check-in starts at 6:00 p
 m. The meeting starts at 6:30.  Featured speaker is \"Tom Tancredo wi
 ll speak on what this election means and how to move forward.\"   See
  you Thursday night!\"  Time: 6:30 pm (but come at 6:00 to checkin and
  network) Place: Fun City Complex, Coal Mine Ave and Kipling in Little
 ton\"\n\nIf you are on Facebook and want to connect with this group, p
 lease learn more via:  https://www.facebook.com/SouthJeffcoTeaParty\n\
 nArrive early for the meeting registration and conversation.\n\n\n\nFo
 r more information visit http://arapahoeteaparty.ning.com/events/south
 -jeffco-tea-party-meeting-with-tom-tancredo
DTSTART:20141114T010000Z
DTEND:20141114T040000Z
CATEGORIES:"monthly meeting"
LOCATION:Fun City Complex
WEBSITE:
URL:
CONTACT:
ORGANIZER:[posted by W. Branstetter]
ATTACH;FMTTYPE="image/jpeg":
END:VEVENT
END:VCALENDAR
