BEGIN:VCALENDAR
PRODID:NingEventWidget-v1
VERSION:2.0
METHOD:PUBLISH
BEGIN:VEVENT
UID:3186561:Event:51093
DTSTAMP:20210313T181234Z
SUMMARY:South Jeffco Tea Party--Meeting with Rich Bratten \"Principles
  of Liberty\"
DESCRIPTION:South Jeffco Tea Party\n\nRich Bratten of \"Principles of 
 Liberty\" will be speaking.\n\nArrive early for check in and a good se
 at and visiting--say 6:00 p.m. for the 6:30 p.m. start time.\n\nFun Ci
 ty Complex, Aspen Room\nSouth Kipling and Coal Mine\nLittleton, Colora
 do\n\nFind out more about the South Jeffco Tea Party at:\n\nhttps://ww
 w.facebook.com/SouthJeffcoTeaParty\n\n\n\n\nFor more information visit
  http://arapahoeteaparty.ning.com/events/south-jeffco-tea-party-meetin
 g-with-rich-bratten-principles-of-li
DTSTART:20140711T003000Z
DTEND:20140711T023000Z
CATEGORIES:meeting
LOCATION:Fun City Family Entertainment, Aspen Room
WEBSITE:
URL:
CONTACT:
ORGANIZER:[posted by W. Branstetter]
ATTACH;FMTTYPE="image/jpeg":
END:VEVENT
END:VCALENDAR
