BEGIN:VCALENDAR
PRODID:NingEventWidget-v1
VERSION:2.0
METHOD:PUBLISH
BEGIN:VEVENT
UID:3186561:Event:48550
DTSTAMP:20210313T182046Z
SUMMARY:South Jeffco Tea Party--Meeting with Mike McAlpine (organizer 
 of \"Recall Hudak\")
DESCRIPTION:The Second meeting of the South Jeffco Tea Party has been 
 scheduled with a larger venue!  Thursday, February 13, 2014 at 6:30 - 
 8:30 pm\nFun City Family Entertainment\n9670 West Coal Mine Avenue\nLi
 ttleton, Colorado  Mike McAlpine, lead organizer for \"Recall Evie Hud
 ak,\" will share with us on how to organize.  How to win.Critically i
 mportant topic!  Please share and call any of your S. Metro friends!\n
 \nFacebook event page at:\n\nhttps://www.facebook.com/events/139821567
 7101626/\n\n\n\nFor more information visit http://arapahoeteaparty.nin
 g.com/events/south-jeffco-tea-party-meeting-with-mike-mcalpine-organiz
 er-of-re
DTSTART:20140214T013000Z
DTEND:20140214T033000Z
CATEGORIES:meeting
LOCATION:Fun City Family Entertainment
WEBSITE:
URL:
CONTACT:
ORGANIZER:posted by W. Branstetter
ATTACH;FMTTYPE="image/jpeg":
ATTENDEE;ROLE=REQ-PARTICIPANT;PARTSTAT=ACCEPTED;RSVP=TRUE;CN="Dan Snyd
 ers":http://arapahoeteaparty.ning.com/profile/DanSnyders
ATTENDEE;ROLE=REQ-PARTICIPANT;PARTSTAT=ACCEPTED;RSVP=TRUE;CN="Joseph W
 illiam Gabriele":http://arapahoeteaparty.ning.com/profile/JosephWillia
 mGabriele
ATTENDEE;ROLE=REQ-PARTICIPANT;PARTSTAT=ACCEPTED;RSVP=TRUE;CN="John Don
 ovan":http://arapahoeteaparty.ning.com/profile/JohnDonovan
END:VEVENT
END:VCALENDAR
