BEGIN:VCALENDAR
PRODID:NingEventWidget-v1
VERSION:2.0
METHOD:PUBLISH
BEGIN:VEVENT
UID:3186561:Event:50261
DTSTAMP:20210313T175844Z
SUMMARY:South Jeffco Tea Party--Meeting \"gremlins in the ballot box\"
  in Colorado?
DESCRIPTION:The meeting of the South Jeffco Tea Party talk about \"gre
 mlins in the ballot box\" in Colorado.Our featured speaker is Colorado
  elections expert and activist, Marilyn Marks, who will speak about: 
 Gremlins in the Ballot Box---How New Election Laws are Stealing Our 
 Elections.” State Representative Justin Everett will also summarize
  the highs, and mostly lows, of the recently ended legislative session
  in the state capitol.There is plenty more to discuss.\n\nCheck in sta
 rts at 6:00 p.m.  Please read the details on their events page on Fac
 ebook.   Thursday, June 12, 2014 at 6:00 - 8:30 pm\nFun City Family E
 ntertainment\n9670 West Coal Mine Avenue\nLittleton, Colorado     Plea
 se share and call any of your S. Metro friends!\n\nFacebook event page
  at:\n\nhttps://www.facebook.com/events/293593290809484\n\n\n\n\n\nFor
  more information visit http://arapahoeteaparty.ning.com/events/south-
 jeffco-tea-party-meeting-gremlins-in-the-ballot-box-in-colo
DTSTART:20140613T000000Z
DTEND:20140613T023000Z
CATEGORIES:meeting
LOCATION:Fun City Family Entertainment, Aspen Room
WEBSITE:https://www.facebook.com/events/293593290809484
URL:https://www.facebook.com/events/293593290809484
CONTACT:
ORGANIZER:posted by W. Branstetter
ATTACH;FMTTYPE="image/jpeg":
ATTENDEE;ROLE=REQ-PARTICIPANT;PARTSTAT=ACCEPTED;RSVP=TRUE;CN="W. Brans
 tetter":http://arapahoeteaparty.ning.com/profile/WBranstetter
END:VEVENT
END:VCALENDAR
