BEGIN:VCALENDAR
PRODID:NingEventWidget-v1
VERSION:2.0
METHOD:PUBLISH
BEGIN:VEVENT
UID:3186561:Event:56187
DTSTAMP:20210313T180346Z
SUMMARY:South Jeffco Tea Party:  Jill Vecchio on \"Amendment 69\" (wha
 t everyone should know)
DESCRIPTION:Frank Francone announced Jill Vecchio, M.D. is featured sp
 eaker on the topic what is in \"Amendment 69\" on the November ballot.
 \n\nDr. Vecchio is one of the few people in the nation who actually re
 ad Obamacare from cover to cover. She's done the same with Amendment 6
 9 and will tell us all about it next Thursday.\n\nSouth Jeffco Tea Par
 ty\nTime: 6:00 p.m.Date: February 11, 2016Location: Church For All Nat
 ions, Banquet Room6500 W. Coal Mine Ave.Littleton, CO\n\nDon't miss wh
 at will be one of our top programs and top speakers of the year!\n\n\"
 Note. This meeting is open to the public. However, the only recordings
  of our proceedings permitted are those expressly authorized in advanc
 e by the South Jeffco Tea Party. Disruptors or folks who violate our g
 uidelines will be asked to leave immediately.\"\n\n********\nDr. Vecch
 io did a series of YouTube videos regarding \"Obamacare\" that are wor
 th noting, so do look for those since she did read the entire bill in 
 2010.\n\n\n\nFor more information visit http://arapahoeteaparty.ning.c
 om/events/south-jeffco-tea-party-jill-vecchio-on-amendment-69-what-eve
 ryone
DTSTART:20160212T010000Z
DTEND:20160212T033000Z
CATEGORIES:meeting
LOCATION:Church For All Nations, Banquet Room
WEBSITE:
URL:
CONTACT:
ORGANIZER:South Jeffco Tea Party; posted by W. Branstetter
ATTACH;FMTTYPE="image/jpeg":
END:VEVENT
END:VCALENDAR
