BEGIN:VCALENDAR
PRODID:NingEventWidget-v1
VERSION:2.0
METHOD:PUBLISH
BEGIN:VEVENT
UID:3186561:Event:58683
DTSTAMP:20210313T181721Z
SUMMARY:South Jeffco Tea Party:  Initiatives and Senate Candidate Blah
 a
DESCRIPTION:Don Ytterberg, chairman of the Jeffco Republican Party, wi
 ll go through the likely initiatives, summarize them, and and answer y
 our questions.\n\nUS Senate Candidate, Robert Blaha will speak about h
 is campaign and then answer your questions. Please note: SJTP does not
  endorse candidates. This is an opportunity for your to meet and get a
 nswers from one of the five Republican Senate Candidates before the Ju
 ne primary.\n\nSouth Jeffco Tea Party\nTime: 6:00 p.m. (light dinner);
  6:30 p.m. meeting Date: June 9, 2016 Location: Church For All Nations
  6500 W. Coal Mine Ave. Littleton, CO\n\n\n\n\nFor more information vi
 sit http://arapahoeteaparty.ning.com/events/south-jeffco-tea-party-ini
 tiatives-and-senate-candidate-blaha
DTSTART:20160610T000000Z
DTEND:20160610T023000Z
CATEGORIES:meeting
LOCATION:Church For All Nations, Banquet Room
WEBSITE:
URL:
CONTACT:
ORGANIZER:South Jeffco Tea Party; posted by W. Branstetter
ATTACH;FMTTYPE="image/jpeg":
END:VEVENT
END:VCALENDAR
