BEGIN:VCALENDAR
PRODID:NingEventWidget-v1
VERSION:2.0
METHOD:PUBLISH
BEGIN:VEVENT
UID:3186561:Event:48575
DTSTAMP:20210313T181625Z
SUMMARY:South Jeffco Tea Party--First Meeting with Dr. Jill Vecchio an
 d Mike Gerali
DESCRIPTION:The very FIRST meeting of the South Jeffco Tea Party has b
 een scheduled!  Thursday, Jan 9th. 6:30 - 8:30 pm The Draft Sports Gri
 ll. North Side of SW Plaza  Excellent Speakers! Dr. Jill Vecchio and M
 ike Gerali will speak on the impending disaster of Obamacare.  Please 
 share and call any of your S. Metro friends!\n\n9150 W. Cross Drive, L
 ittleton 80123. It is on the north side of SW Plaza.\n\n**************
 ******\n\nFacebook event at:\n\nhttps://www.facebook.com/events/223668
 664479159/?ref_dashboard_filter=upcoming&source=1\n\n\n\nFor more info
 rmation visit http://arapahoeteaparty.ning.com/events/south-jeffco-tea
 -party-first-meeting-with-dr-jill-vecchio-and-mik
DTSTART:20140110T013000Z
DTEND:20140110T033000Z
CATEGORIES:meeting
LOCATION:Draft Sports Grill
WEBSITE:
URL:
CONTACT:
ORGANIZER:posted by W. Branstetter
ATTACH;FMTTYPE="image/jpeg":
ATTENDEE;ROLE=REQ-PARTICIPANT;PARTSTAT=ACCEPTED;RSVP=TRUE;CN="Dr. Rich
 ard A Oliver":http://arapahoeteaparty.ning.com/profile/DrRichardAOlive
 r
ATTENDEE;ROLE=REQ-PARTICIPANT;PARTSTAT=ACCEPTED;RSVP=TRUE;CN="Linda Ha
 rt":http://arapahoeteaparty.ning.com/profile/LindaHart
ATTENDEE;ROLE=REQ-PARTICIPANT;PARTSTAT=ACCEPTED;RSVP=TRUE;CN="Joseph W
 illiam Gabriele":http://arapahoeteaparty.ning.com/profile/JosephWillia
 mGabriele
END:VEVENT
END:VCALENDAR
