BEGIN:VCALENDAR
PRODID:NingEventWidget-v1
VERSION:2.0
METHOD:PUBLISH
BEGIN:VEVENT
UID:3186561:Event:51981
DTSTAMP:20210313T182053Z
SUMMARY:South Jeffco Tea Party
DESCRIPTION:The announcement from South Jeffco Tea Party for tonight's
  meeting:  \"September South Jeffco Tea Party Meeting. Steve House spe
 aking.Thursday, September 11, 2014 in the Aspen Room in the Fun City c
 omplex. Fun City is located at 9670 W. Coal Mine Ave., Littleton CO. T
 hat's at the corner of Kipling and Coal Mine. Check-in starts at 6:00 
 pm. The meeting starts at 6:30. Because it's September 11, we will be
  both looking back to honor those who died in the 911 attacks. And we 
 will be looking forward at how cutting-edge technologies will transfor
 m America.Our featured speaker is Governor Candidate, Steve House. Ste
 ve will talk about how nanotechnology will transform American politics
 , profoundly. Either we get a free country or terrible tyranny. Americ
 a's difficult choices will be made over the next 10-20 yearsMr. House 
 has thought and spoken widely on this subject. He is both thought prov
 oking and electrifying in the possibilities he raises. You don't want 
 to miss this.We will also give you an activism update on the big issue
 s that the Jeffco School Board is addressing now, including Common Cor
 e and the union contract negotiationsSee you Thursday night!\"  Time: 
 6:30 pm (but come at 6:00 to checkin and network) Place: Fun City Comp
 lex, Coal Mine Ave and Kipling in Littleton\"\n\nIf you are on Faceboo
 k and want to connect with this group, please learn more via:  https:/
 /www.facebook.com/SouthJeffcoTeaParty\n\nArrive early for the meeting 
 registration and conversation.\n\nNote that Steve House talked about t
 he topic at an Arapahoe Tea Party meeting and it was fascinating.  Ex
 cellent topic!\n\n\nFor more information visit http://arapahoeteaparty
 .ning.com/events/south-jeffco-tea-party-1
DTSTART:20140912T000000Z
DTEND:20140912T030000Z
CATEGORIES:"monthly meeting"
LOCATION:Fun City Complex
WEBSITE:
URL:
CONTACT:
ORGANIZER:[posted by W. Branstetter]
ATTACH;FMTTYPE="image/jpeg":
ATTENDEE;ROLE=REQ-PARTICIPANT;PARTSTAT=TENTATIVE;RSVP=TRUE;CN="W. Bran
 stetter":http://arapahoeteaparty.ning.com/profile/WBranstetter
END:VEVENT
END:VCALENDAR
