BEGIN:VCALENDAR
PRODID:NingEventWidget-v1
VERSION:2.0
METHOD:PUBLISH
BEGIN:VEVENT
UID:3186561:Event:51879
DTSTAMP:20210313T174318Z
SUMMARY:September Meeting: Arapahoe Tea Party--Several Topics
DESCRIPTION:Join the Arapahoe Tea Party and the Colorado Tea Party Pat
 riots for our September 9, 2014, meeting.\n\n-- Jeff Meek and Marc Ma
 cYoung from Carry On Colorado in Castle Rock\n\n-- Perry Pendley upate
 s on the Sagebrush Rebellion and the western states efforts to control
  lands in their borders.\n\n-- Andy McKean will tell us how we can in
 fluence young minds about the principles of liberty for Liberty Day.\n
 \n\nAs with all of the meetings, come early for a good seat.  There m
 ay be additions to the program with announcements or candidates.\n\nOu
 r meetings have been standing room only, so come early!\n \nTuesday, 
 September 9, 2014 6:30-8:30 pm South Metro Fire Rescue 9195 E. Mineral
  Ave. Centennial, CO 80112\n \nWatch for other announcements from Ran
 dy Corporon regarding speakers or topics.  Listen to KLZ 560 radio.\n
 \nEvent announcement on Facebook:\nhttps://www.facebook.com/events/329
 806240531444/\n \n\n \nIf you would be interested in helping with a 
 committee or two that might help make meetings and events run smoother
 , would you please post a brief comment with this announcement.\n \nI
 f you are not connected via Facebook, please find the group \"Arapahoe
  Tea Party\" \nhttps://www.facebook.com/groups/arapahoeteaparty\n \n
 *************************\n\nNOTE:  Please do not contact the buildin
 g management for information about this event.  The group sponsoring 
 the event has contact information at the link provided above.\n\n\n\nF
 or more information visit http://arapahoeteaparty.ning.com/events/sept
 ember-meeting-arapahoe-tea-party-several-topics
DTSTART:20140910T003000Z
DTEND:20140910T023000Z
CATEGORIES:"monthly meeting"
LOCATION:South Metro Fire Rescue Authority; Mineral Headquarters, Boar
 d Room
WEBSITE:https://maps.google.com/maps?oe=utf-8&client=firefox-a&ie=UTF-
 8&q=south+metro+fire+rescue+authority+mineral+headquarters&fb=1&gl=us&
 hq=south+metro+fire+rescue+authority+mineral+headquarters&cid=0,0,9189
 900575761474566&ei=wsvZUfvrHoWQyQHR5oGQCg&ved=0CIcBEPwSMAA
URL:https://maps.google.com/maps?oe=utf-8&client=firefox-a&ie=UTF-8&q=
 south+metro+fire+rescue+authority+mineral+headquarters&fb=1&gl=us&hq=s
 outh+metro+fire+rescue+authority+mineral+headquarters&cid=0,0,91899005
 75761474566&ei=wsvZUfvrHoWQyQHR5oGQCg&ved=0CIcBEPwSMAA
CONTACT:303-885-2550
ORGANIZER:Regina Thomson and Randy Corporon [posted by W. Branstetter]
ATTACH;FMTTYPE="image/jpeg":
ATTENDEE;ROLE=REQ-PARTICIPANT;PARTSTAT=ACCEPTED;RSVP=TRUE;CN="W. Brans
 tetter":http://arapahoeteaparty.ning.com/profile/WBranstetter
END:VEVENT
END:VCALENDAR
